BEGIN:VCALENDAR
VERSION:2.0
PRODID:-//Agenda Cultura Local - ECPv6.15.20//NONSGML v1.0//EN
CALSCALE:GREGORIAN
METHOD:PUBLISH
X-ORIGINAL-URL:https://culturalocal.eu
X-WR-CALDESC:Eventos para Agenda Cultura Local
REFRESH-INTERVAL;VALUE=DURATION:PT1H
X-Robots-Tag:noindex
X-PUBLISHED-TTL:PT1H
BEGIN:VTIMEZONE
TZID:Europe/Madrid
BEGIN:DAYLIGHT
TZOFFSETFROM:+0100
TZOFFSETTO:+0200
TZNAME:CEST
DTSTART:20230326T010000
END:DAYLIGHT
BEGIN:STANDARD
TZOFFSETFROM:+0200
TZOFFSETTO:+0100
TZNAME:CET
DTSTART:20231029T010000
END:STANDARD
BEGIN:DAYLIGHT
TZOFFSETFROM:+0100
TZOFFSETTO:+0200
TZNAME:CEST
DTSTART:20240331T010000
END:DAYLIGHT
BEGIN:STANDARD
TZOFFSETFROM:+0200
TZOFFSETTO:+0100
TZNAME:CET
DTSTART:20241027T010000
END:STANDARD
BEGIN:DAYLIGHT
TZOFFSETFROM:+0100
TZOFFSETTO:+0200
TZNAME:CEST
DTSTART:20250330T010000
END:DAYLIGHT
BEGIN:STANDARD
TZOFFSETFROM:+0200
TZOFFSETTO:+0100
TZNAME:CET
DTSTART:20251026T010000
END:STANDARD
END:VTIMEZONE
BEGIN:VEVENT
DTSTART;TZID=Europe/Madrid:20240426T000000
DTEND;TZID=Europe/Madrid:20240426T000000
DTSTAMP:20260422T042806
CREATED:20241001T121051Z
LAST-MODIFIED:20241001T121051Z
UID:10000298-1714089600-1714089600@culturalocal.eu
SUMMARY:Majorals Remember Fest
DESCRIPTION:Els Majorals de Sant Pere 2024 presenten la programació de Festes de Sant Pere de Verona amb el cartell taurí i el Majorals Remember Fest.
URL:https://culturalocal.eu/agenda/majorals-remember-fest/
LOCATION:Espai d’Oci d’Alcalà de Xivert\, Cami del Palau\, 3\, Alcalà de Xivert\, Castellón\, 12570\, España
CATEGORIES:Ajuntament Alcalà de Xivert
ATTACH;FMTTYPE=image/jpeg:https://culturalocal.eu/wp-content/uploads/2024/05/majoralssanpereDJ.jpg
ORGANIZER;CN="Ajuntament d'Alcal%C3%A0 de Xivert":MAILTO:info@alcaladexivert.es
END:VEVENT
BEGIN:VEVENT
DTSTART;TZID=Europe/Madrid:20240706T170000
DTEND;TZID=Europe/Madrid:20240706T230000
DTSTAMP:20260422T042806
CREATED:20241001T121104Z
LAST-MODIFIED:20241001T121104Z
UID:10001085-1720285200-1720306800@culturalocal.eu
SUMMARY:Summer Tardeo
DESCRIPTION:
URL:https://culturalocal.eu/agenda/summer-tardeo/
LOCATION:Pinada Platja Carregador\, Camí de l'Atall Zona d'Alcossebre\, 27\, Alcossebre\, Castelló\, 12579\, España
CATEGORIES:Ajuntament Alcalà de Xivert
ATTACH;FMTTYPE=image/png:https://culturalocal.eu/wp-content/uploads/2024/07/6.png
ORGANIZER;CN="Ajuntament d'Alcal%C3%A0 de Xivert":MAILTO:info@alcaladexivert.es
END:VEVENT
BEGIN:VEVENT
DTSTART;VALUE=DATE:20240726
DTEND;VALUE=DATE:20240729
DTSTAMP:20260422T042806
CREATED:20241001T121135Z
LAST-MODIFIED:20241001T121135Z
UID:10001966-1721952000-1722211199@culturalocal.eu
SUMMARY:Festes de Capicorb 2024
DESCRIPTION:FESTES CAPICORB\nCapicorb viu les seues festes intensament el proper cap de setmana\, del 26 al 28 de juliol\, amb un ampli programa d’actes\, el festival CAPIROCK i el Mercat artesanal i de productes de la terra.\n\n\nFIESTAS CAPICORB\nCapicorb vive sus fiestas intensamente el próximo fin de semana\, del 26 al 28 de julio\, con un amplio programa de actos\, el festival CAPIROCK y el Mercado artesanal y de productos de la tierra.
URL:https://culturalocal.eu/agenda/festes-de-capicorb-2024/
LOCATION:Antigues Escoles Capicorb\, Antigues Escoles Capicorb\, Capicorb\, Castelló\, 12579\, España
CATEGORIES:Ajuntament Alcalà de Xivert,Capicorb (Alcalà de Xivert)
ATTACH;FMTTYPE=image/jpeg:https://culturalocal.eu/wp-content/uploads/2024/07/festesCapicorb24.jpg
ORGANIZER;CN="Ajuntament d'Alcal%C3%A0 de Xivert":MAILTO:info@alcaladexivert.es
END:VEVENT
END:VCALENDAR