BEGIN:VCALENDAR
VERSION:2.0
PRODID:-//Agenda Cultura Local - ECPv6.15.20//NONSGML v1.0//EN
CALSCALE:GREGORIAN
METHOD:PUBLISH
X-WR-CALNAME:Agenda Cultura Local
X-ORIGINAL-URL:https://culturalocal.eu
X-WR-CALDESC:Eventos para Agenda Cultura Local
REFRESH-INTERVAL;VALUE=DURATION:PT1H
X-Robots-Tag:noindex
X-PUBLISHED-TTL:PT1H
BEGIN:VTIMEZONE
TZID:Europe/Madrid
BEGIN:DAYLIGHT
TZOFFSETFROM:+0100
TZOFFSETTO:+0200
TZNAME:CEST
DTSTART:20230326T010000
END:DAYLIGHT
BEGIN:STANDARD
TZOFFSETFROM:+0200
TZOFFSETTO:+0100
TZNAME:CET
DTSTART:20231029T010000
END:STANDARD
BEGIN:DAYLIGHT
TZOFFSETFROM:+0100
TZOFFSETTO:+0200
TZNAME:CEST
DTSTART:20240331T010000
END:DAYLIGHT
BEGIN:STANDARD
TZOFFSETFROM:+0200
TZOFFSETTO:+0100
TZNAME:CET
DTSTART:20241027T010000
END:STANDARD
BEGIN:DAYLIGHT
TZOFFSETFROM:+0100
TZOFFSETTO:+0200
TZNAME:CEST
DTSTART:20250330T010000
END:DAYLIGHT
BEGIN:STANDARD
TZOFFSETFROM:+0200
TZOFFSETTO:+0100
TZNAME:CET
DTSTART:20251026T010000
END:STANDARD
BEGIN:DAYLIGHT
TZOFFSETFROM:+0100
TZOFFSETTO:+0200
TZNAME:CEST
DTSTART:20260329T010000
END:DAYLIGHT
BEGIN:STANDARD
TZOFFSETFROM:+0200
TZOFFSETTO:+0100
TZNAME:CET
DTSTART:20261025T010000
END:STANDARD
END:VTIMEZONE
BEGIN:VEVENT
DTSTART;TZID=Europe/Madrid:20250829T223000
DTEND;TZID=Europe/Madrid:20250829T235800
DTSTAMP:20260420T072647
CREATED:20250630T002905Z
LAST-MODIFIED:20250630T002929Z
UID:10003612-1756506600-1756511880@culturalocal.eu
SUMMARY:Estiu a la fresca 2025 - Trio Pentagrama
DESCRIPTION:
URL:https://culturalocal.eu/agenda/estiu-a-la-fresca-2025-9/
LOCATION:Plaça Justo Zaragozá\, Plaça Justo Zaragozá\, Alcalà de Xivert\, Castelló\, 12570\, España
CATEGORIES:Ajuntament Alcalà de Xivert,Alcalà de Xivert (poble),Animació
ATTACH;FMTTYPE=image/jpeg:https://culturalocal.eu/wp-content/uploads/2025/06/Estiu-A-La-Fresca.jpg
ORGANIZER;CN="Ajuntament d'Alcal%C3%A0 de Xivert":MAILTO:info@alcaladexivert.es
END:VEVENT
BEGIN:VEVENT
DTSTART;TZID=Europe/Madrid:20250809T223000
DTEND;TZID=Europe/Madrid:20250809T235800
DTSTAMP:20260420T072647
CREATED:20250630T002433Z
LAST-MODIFIED:20250630T002433Z
UID:10003610-1754778600-1754783880@culturalocal.eu
SUMMARY:Estiu a la fresca 2025 - Duo + Music
DESCRIPTION:
URL:https://culturalocal.eu/agenda/estiu-a-la-fresca-2025-7/
LOCATION:Carrer General Cucala\, Carrer General Cucala\, Alcalà de Xivert\, Castelló\, 12570\, España
CATEGORIES:Ajuntament Alcalà de Xivert,Alcalà de Xivert (poble),Animació
ATTACH;FMTTYPE=image/jpeg:https://culturalocal.eu/wp-content/uploads/2025/06/Estiu-A-La-Fresca.jpg
ORGANIZER;CN="Ajuntament d'Alcal%C3%A0 de Xivert":MAILTO:info@alcaladexivert.es
END:VEVENT
BEGIN:VEVENT
DTSTART;TZID=Europe/Madrid:20250802T223000
DTEND;TZID=Europe/Madrid:20250802T235800
DTSTAMP:20260420T072647
CREATED:20250630T002502Z
LAST-MODIFIED:20250630T002521Z
UID:10003609-1754173800-1754179080@culturalocal.eu
SUMMARY:Estiu a la fresca 2025 - Duo Energy
DESCRIPTION:
URL:https://culturalocal.eu/agenda/estiu-a-la-fresca-2025-duo-energy/
LOCATION:Carrer Maestrat\, Carrer Maestrat\, Alcalà de Xivert\, Castelló\, 12570\, España
CATEGORIES:Ajuntament Alcalà de Xivert,Alcalà de Xivert (poble),Animació
ATTACH;FMTTYPE=image/jpeg:https://culturalocal.eu/wp-content/uploads/2025/06/Estiu-A-La-Fresca.jpg
ORGANIZER;CN="Ajuntament d'Alcal%C3%A0 de Xivert":MAILTO:info@alcaladexivert.es
END:VEVENT
BEGIN:VEVENT
DTSTART;TZID=Europe/Madrid:20250726T223000
DTEND;TZID=Europe/Madrid:20250726T235800
DTSTAMP:20260420T072647
CREATED:20250630T000522Z
LAST-MODIFIED:20250630T001439Z
UID:10003608-1753569000-1753574280@culturalocal.eu
SUMMARY:Estiu a la fresca 2025 - Trio Triband
DESCRIPTION:
URL:https://culturalocal.eu/agenda/estiu-a-la-fresca-2025-6/
LOCATION:Antigues Escoles Capicorb\, Antigues Escoles Capicorb\, Capicorb\, Castelló\, 12579\, España
CATEGORIES:Ajuntament Alcalà de Xivert,Alcalà de Xivert (poble),Animació
ATTACH;FMTTYPE=image/jpeg:https://culturalocal.eu/wp-content/uploads/2025/06/Estiu-A-La-Fresca.jpg
ORGANIZER;CN="Ajuntament d'Alcal%C3%A0 de Xivert":MAILTO:info@alcaladexivert.es
END:VEVENT
BEGIN:VEVENT
DTSTART;TZID=Europe/Madrid:20250719T223000
DTEND;TZID=Europe/Madrid:20250719T235800
DTSTAMP:20260420T072647
CREATED:20250630T001243Z
LAST-MODIFIED:20250630T001356Z
UID:10003613-1752964200-1752969480@culturalocal.eu
SUMMARY:Estiu a la fresca 2025 - Duo Almas Gemelas
DESCRIPTION:
URL:https://culturalocal.eu/agenda/estiu-a-la-fresca-2025-duo-music/
LOCATION:Carrer Francisco Sospedra\, Carrer Francisco Sospedra\, Alcalà de Xivert\, Castelló\, 12570\, España
CATEGORIES:Ajuntament Alcalà de Xivert,Alcalà de Xivert (poble),Animació
ATTACH;FMTTYPE=image/jpeg:https://culturalocal.eu/wp-content/uploads/2025/06/Estiu-A-La-Fresca.jpg
ORGANIZER;CN="Ajuntament d'Alcal%C3%A0 de Xivert":MAILTO:info@alcaladexivert.es
END:VEVENT
BEGIN:VEVENT
DTSTART;TZID=Europe/Madrid:20250712T223000
DTEND;TZID=Europe/Madrid:20250712T235800
DTSTAMP:20260420T072647
CREATED:20250630T000204Z
LAST-MODIFIED:20250630T001019Z
UID:10003607-1752359400-1752364680@culturalocal.eu
SUMMARY:Estiu a la fresca 2025 - Duo + Music
DESCRIPTION:
URL:https://culturalocal.eu/agenda/estiu-a-la-fresca-2025-5/
LOCATION:Carrer Dr. Seguer\, Carrer Dr. Seguer\, Alcalà de Xivert\, Castelló\, 12570\, España
CATEGORIES:Ajuntament Alcalà de Xivert,Alcalà de Xivert (poble),Animació
ATTACH;FMTTYPE=image/jpeg:https://culturalocal.eu/wp-content/uploads/2025/06/Estiu-A-La-Fresca.jpg
ORGANIZER;CN="Ajuntament d'Alcal%C3%A0 de Xivert":MAILTO:info@alcaladexivert.es
END:VEVENT
BEGIN:VEVENT
DTSTART;TZID=Europe/Madrid:20250705T223000
DTEND;TZID=Europe/Madrid:20250705T235800
DTSTAMP:20260420T072647
CREATED:20250629T235911Z
LAST-MODIFIED:20250630T000942Z
UID:10003606-1751754600-1751759880@culturalocal.eu
SUMMARY:Estiu a la fresca 2025 - Duo Tabú
DESCRIPTION:
URL:https://culturalocal.eu/agenda/estiu-a-la-fresca-2025-3/
LOCATION:Plaça Juan Vilanova\, Plaça Juan Vilanova\, Alcalà de Xivert\, Castelló\, 12570\, España
CATEGORIES:Ajuntament Alcalà de Xivert,Alcalà de Xivert (poble),Animació
ATTACH;FMTTYPE=image/jpeg:https://culturalocal.eu/wp-content/uploads/2025/06/Estiu-A-La-Fresca.jpg
ORGANIZER;CN="Ajuntament d'Alcal%C3%A0 de Xivert":MAILTO:info@alcaladexivert.es
END:VEVENT
BEGIN:VEVENT
DTSTART;TZID=Europe/Madrid:20250628T223000
DTEND;TZID=Europe/Madrid:20250628T235800
DTSTAMP:20260420T072647
CREATED:20250630T000017Z
LAST-MODIFIED:20250630T000747Z
UID:10003605-1751149800-1751155080@culturalocal.eu
SUMMARY:Estiu a la fresca 2025 - Duo Energy
DESCRIPTION:
URL:https://culturalocal.eu/agenda/estiu-a-la-fresca-2025-4/
LOCATION:Plaça de l’Esglesia\, Plaça de l'Esglesia\, Alcalà de Xivert\, Castelló\, 12570\, España
CATEGORIES:Ajuntament Alcalà de Xivert,Alcalà de Xivert (poble),Animació
ATTACH;FMTTYPE=image/jpeg:https://culturalocal.eu/wp-content/uploads/2025/06/Estiu-A-La-Fresca.jpg
ORGANIZER;CN="Ajuntament d'Alcal%C3%A0 de Xivert":MAILTO:info@alcaladexivert.es
END:VEVENT
BEGIN:VEVENT
DTSTART;TZID=Europe/Madrid:20241013T100000
DTEND;TZID=Europe/Madrid:20241013T183000
DTSTAMP:20260420T072647
CREATED:20241002T093928Z
LAST-MODIFIED:20250203T094518Z
UID:10002396-1728813600-1728844200@culturalocal.eu
SUMMARY:Fira de la Tomata de Penjar
DESCRIPTION:Activitats de la X FIRA DE LA TOMATA DE PENJAR: \n\n\n\nLlocs de venda de productes de proximitat i artesania\nCom a novetat\, el 1er Concurs de Coc de Tomata de Penjar\nTasts de cerveses i vermut\nShowcookings\nActuacions musicals\nTallers infantils\nExposicions d’associacions locals\nPortes obertes al campanar
URL:https://culturalocal.eu/agenda/fira-de-la-tomata-de-penjar/2024-10-13/
LOCATION:Plaça de l’Esglesia\, Plaça de l'Esglesia\, Alcalà de Xivert\, Castelló\, 12570\, España
CATEGORIES:Ajuntament Alcalà de Xivert,Alcalà de Xivert (poble),Animació,Cultura,Gastronomia
ATTACH;FMTTYPE=image/jpeg:https://culturalocal.eu/wp-content/uploads/2024/10/tomatapenjar.jpg
ORGANIZER;CN="Ajuntament d'Alcal%C3%A0 de Xivert":MAILTO:info@alcaladexivert.es
END:VEVENT
BEGIN:VEVENT
DTSTART;TZID=Europe/Madrid:20241012T103000
DTEND;TZID=Europe/Madrid:20241012T103000
DTSTAMP:20260420T072647
CREATED:20241002T093928Z
LAST-MODIFIED:20250203T094518Z
UID:10002395-1728729000-1728729000@culturalocal.eu
SUMMARY:Fira de la Tomata de Penjar
DESCRIPTION:Activitats de la X FIRA DE LA TOMATA DE PENJAR: \n\n\n\nLlocs de venda de productes de proximitat i artesania\nCom a novetat\, el 1er Concurs de Coc de Tomata de Penjar\nTasts de cerveses i vermut\nShowcookings\nActuacions musicals\nTallers infantils\nExposicions d’associacions locals\nPortes obertes al campanar
URL:https://culturalocal.eu/agenda/fira-de-la-tomata-de-penjar/2024-10-12/
LOCATION:Plaça de l’Esglesia\, Plaça de l'Esglesia\, Alcalà de Xivert\, Castelló\, 12570\, España
CATEGORIES:Ajuntament Alcalà de Xivert,Alcalà de Xivert (poble),Animació,Cultura,Gastronomia
ATTACH;FMTTYPE=image/jpeg:https://culturalocal.eu/wp-content/uploads/2024/10/tomatapenjar.jpg
ORGANIZER;CN="Ajuntament d'Alcal%C3%A0 de Xivert":MAILTO:info@alcaladexivert.es
END:VEVENT
BEGIN:VEVENT
DTSTART;TZID=Europe/Madrid:20240823T223000
DTEND;TZID=Europe/Madrid:20240823T233000
DTSTAMP:20260420T072647
CREATED:20241001T121122Z
LAST-MODIFIED:20241001T121122Z
UID:10000339-1724452200-1724455800@culturalocal.eu
SUMMARY:A la Fresca: "Trio Pentagrama"
DESCRIPTION:La Regidoria de Promoció Cultural i Festiva organitza “A la fresca” per a dinamitzar l’oci i l’hostaleria durant l’estiu en Alcalà. Des del 29 de juny i fins al 23 d’agost\, se celebraran 9 revetlles amb música en directe tots els dissabtes en diferents carrers i places del nucli d’Alcalà i Capicorb.\n\n\n\n\n\nLa Concejalía de Promoción Cultural y Festiva organiza “A la fresca” para dinamizar el ocio y la hostelería durante el verano en Alcalà. Desde el 29 de junio y hasta el 23 de agosto\, se celebrarán 9 verbenas con música en directo todos los sábados en distintas calles y plazas del núcleo de Alcalà y Capicorb.
URL:https://culturalocal.eu/agenda/a-la-fresca-duo-tabu-2/
LOCATION:Plaça Justo Zaragozá\, Plaça Justo Zaragozá\, Alcalà de Xivert\, Castelló\, 12570\, España
CATEGORIES:Ajuntament Alcalà de Xivert
ATTACH;FMTTYPE=image/jpeg:https://culturalocal.eu/wp-content/uploads/2024/06/alafresca.jpg
ORGANIZER;CN="Ajuntament d'Alcal%C3%A0 de Xivert":MAILTO:info@alcaladexivert.es
END:VEVENT
BEGIN:VEVENT
DTSTART;TZID=Europe/Madrid:20240810T223000
DTEND;TZID=Europe/Madrid:20240810T233000
DTSTAMP:20260420T072647
CREATED:20241001T121122Z
LAST-MODIFIED:20241001T121122Z
UID:10000337-1723329000-1723332600@culturalocal.eu
SUMMARY:A la Fresca: "Duo Hechizo"
DESCRIPTION:La Regidoria de Promoció Cultural i Festiva organitza “A la fresca” per a dinamitzar l’oci i l’hostaleria durant l’estiu en Alcalà. Des del 29 de juny i fins al 23 d’agost\, se celebraran 9 revetlles amb música en directe tots els dissabtes en diferents carrers i places del nucli d’Alcalà i Capicorb.\n\n\n\n\n\nLa Concejalía de Promoción Cultural y Festiva organiza “A la fresca” para dinamizar el ocio y la hostelería durante el verano en Alcalà. Desde el 29 de junio y hasta el 23 de agosto\, se celebrarán 9 verbenas con música en directo todos los sábados en distintas calles y plazas del núcleo de Alcalà y Capicorb.
URL:https://culturalocal.eu/agenda/a-la-fresca-duo-hechizo/
LOCATION:Carrer General Cucala\, Carrer General Cucala\, Alcalà de Xivert\, Castelló\, 12570\, España
CATEGORIES:Ajuntament Alcalà de Xivert
ATTACH;FMTTYPE=image/jpeg:https://culturalocal.eu/wp-content/uploads/2024/06/alafresca.jpg
ORGANIZER;CN="Ajuntament d'Alcal%C3%A0 de Xivert":MAILTO:info@alcaladexivert.es
END:VEVENT
BEGIN:VEVENT
DTSTART;TZID=Europe/Madrid:20240803T223000
DTEND;TZID=Europe/Madrid:20240803T233000
DTSTAMP:20260420T072647
CREATED:20241001T121122Z
LAST-MODIFIED:20241001T121122Z
UID:10000336-1722724200-1722727800@culturalocal.eu
SUMMARY:A la Fresca: "Duo Calibra"
DESCRIPTION:La Regidoria de Promoció Cultural i Festiva organitza “A la fresca” per a dinamitzar l’oci i l’hostaleria durant l’estiu en Alcalà. Des del 29 de juny i fins al 23 d’agost\, se celebraran 9 revetlles amb música en directe tots els dissabtes en diferents carrers i places del nucli d’Alcalà i Capicorb.\n\n\n\n\n\nLa Concejalía de Promoción Cultural y Festiva organiza “A la fresca” para dinamizar el ocio y la hostelería durante el verano en Alcalà. Desde el 29 de junio y hasta el 23 de agosto\, se celebrarán 9 verbenas con música en directo todos los sábados en distintas calles y plazas del núcleo de Alcalà y Capicorb.
URL:https://culturalocal.eu/agenda/a-la-fresca-duo-calibra/
LOCATION:Carrer Maestrat\, Carrer Maestrat\, Alcalà de Xivert\, Castelló\, 12570\, España
CATEGORIES:Ajuntament Alcalà de Xivert
ATTACH;FMTTYPE=image/jpeg:https://culturalocal.eu/wp-content/uploads/2024/06/alafresca.jpg
ORGANIZER;CN="Ajuntament d'Alcal%C3%A0 de Xivert":MAILTO:info@alcaladexivert.es
END:VEVENT
BEGIN:VEVENT
DTSTART;TZID=Europe/Madrid:20240727T223000
DTEND;TZID=Europe/Madrid:20240727T233000
DTSTAMP:20260420T072647
CREATED:20241001T121122Z
LAST-MODIFIED:20241001T121122Z
UID:10000335-1722119400-1722123000@culturalocal.eu
SUMMARY:A la Fresca: "Trío Tabú"
DESCRIPTION:La Regidoria de Promoció Cultural i Festiva organitza “A la fresca” per a dinamitzar l’oci i l’hostaleria durant l’estiu en Alcalà. Des del 29 de juny i fins al 23 d’agost\, se celebraran 9 revetlles amb música en directe tots els dissabtes en diferents carrers i places del nucli d’Alcalà i Capicorb.\n\n\n\n\n\nLa Concejalía de Promoción Cultural y Festiva organiza “A la fresca” para dinamizar el ocio y la hostelería durante el verano en Alcalà. Desde el 29 de junio y hasta el 23 de agosto\, se celebrarán 9 verbenas con música en directo todos los sábados en distintas calles y plazas del núcleo de Alcalà y Capicorb.
URL:https://culturalocal.eu/agenda/a-la-fresca-trio-tabu/
LOCATION:Antigues Escoles Capicorb\, Antigues Escoles Capicorb\, Capicorb\, Castelló\, 12579\, España
CATEGORIES:Ajuntament Alcalà de Xivert
ATTACH;FMTTYPE=image/jpeg:https://culturalocal.eu/wp-content/uploads/2024/06/alafresca.jpg
ORGANIZER;CN="Ajuntament d'Alcal%C3%A0 de Xivert":MAILTO:info@alcaladexivert.es
END:VEVENT
BEGIN:VEVENT
DTSTART;VALUE=DATE:20240726
DTEND;VALUE=DATE:20240729
DTSTAMP:20260420T072647
CREATED:20241001T121135Z
LAST-MODIFIED:20241001T121135Z
UID:10001966-1721952000-1722211199@culturalocal.eu
SUMMARY:Festes de Capicorb 2024
DESCRIPTION:FESTES CAPICORB\nCapicorb viu les seues festes intensament el proper cap de setmana\, del 26 al 28 de juliol\, amb un ampli programa d’actes\, el festival CAPIROCK i el Mercat artesanal i de productes de la terra.\n\n\nFIESTAS CAPICORB\nCapicorb vive sus fiestas intensamente el próximo fin de semana\, del 26 al 28 de julio\, con un amplio programa de actos\, el festival CAPIROCK y el Mercado artesanal y de productos de la tierra.
URL:https://culturalocal.eu/agenda/festes-de-capicorb-2024/
LOCATION:Antigues Escoles Capicorb\, Antigues Escoles Capicorb\, Capicorb\, Castelló\, 12579\, España
CATEGORIES:Ajuntament Alcalà de Xivert,Capicorb (Alcalà de Xivert)
ATTACH;FMTTYPE=image/jpeg:https://culturalocal.eu/wp-content/uploads/2024/07/festesCapicorb24.jpg
ORGANIZER;CN="Ajuntament d'Alcal%C3%A0 de Xivert":MAILTO:info@alcaladexivert.es
END:VEVENT
BEGIN:VEVENT
DTSTART;TZID=Europe/Madrid:20240720T223000
DTEND;TZID=Europe/Madrid:20240720T233000
DTSTAMP:20260420T072647
CREATED:20241001T121122Z
LAST-MODIFIED:20241001T121122Z
UID:10000334-1721514600-1721518200@culturalocal.eu
SUMMARY:A la Fresca: "Duo Almas Gemelas"
DESCRIPTION:La Regidoria de Promoció Cultural i Festiva organitza “A la fresca” per a dinamitzar l’oci i l’hostaleria durant l’estiu en Alcalà. Des del 29 de juny i fins al 23 d’agost\, se celebraran 9 revetlles amb música en directe tots els dissabtes en diferents carrers i places del nucli d’Alcalà i Capicorb.\n\n\n\n\n\nLa Concejalía de Promoción Cultural y Festiva organiza “A la fresca” para dinamizar el ocio y la hostelería durante el verano en Alcalà. Desde el 29 de junio y hasta el 23 de agosto\, se celebrarán 9 verbenas con música en directo todos los sábados en distintas calles y plazas del núcleo de Alcalà y Capicorb.
URL:https://culturalocal.eu/agenda/a-la-fresca-duo-almas-gemelas/
LOCATION:Carrer Francisco Sospedra\, Carrer Francisco Sospedra\, Alcalà de Xivert\, Castelló\, 12570\, España
CATEGORIES:Ajuntament Alcalà de Xivert
ATTACH;FMTTYPE=image/jpeg:https://culturalocal.eu/wp-content/uploads/2024/06/alafresca.jpg
ORGANIZER;CN="Ajuntament d'Alcal%C3%A0 de Xivert":MAILTO:info@alcaladexivert.es
END:VEVENT
BEGIN:VEVENT
DTSTART;TZID=Europe/Madrid:20240713T223000
DTEND;TZID=Europe/Madrid:20240713T233000
DTSTAMP:20260420T072647
CREATED:20241001T121122Z
LAST-MODIFIED:20241001T121122Z
UID:10000333-1720909800-1720913400@culturalocal.eu
SUMMARY:A la Fresca: "Duo Hechizo"
DESCRIPTION:La Regidoria de Promoció Cultural i Festiva organitza “A la fresca” per a dinamitzar l’oci i l’hostaleria durant l’estiu en Alcalà. Des del 29 de juny i fins al 23 d’agost\, se celebraran 9 revetlles amb música en directe tots els dissabtes en diferents carrers i places del nucli d’Alcalà i Capicorb.\n\n\n\n\n\nLa Concejalía de Promoción Cultural y Festiva organiza “A la fresca” para dinamizar el ocio y la hostelería durante el verano en Alcalà. Desde el 29 de junio y hasta el 23 de agosto\, se celebrarán 9 verbenas con música en directo todos los sábados en distintas calles y plazas del núcleo de Alcalà y Capicorb.
URL:https://culturalocal.eu/agenda/a-la-fresca-duomusic-2/
LOCATION:Carrer Dr. Seguer\, Carrer Dr. Seguer\, Alcalà de Xivert\, Castelló\, 12570\, España
CATEGORIES:Ajuntament Alcalà de Xivert
ATTACH;FMTTYPE=image/jpeg:https://culturalocal.eu/wp-content/uploads/2024/06/alafresca.jpg
ORGANIZER;CN="Ajuntament d'Alcal%C3%A0 de Xivert":MAILTO:info@alcaladexivert.es
END:VEVENT
BEGIN:VEVENT
DTSTART;TZID=Europe/Madrid:20240706T223000
DTEND;TZID=Europe/Madrid:20240706T233000
DTSTAMP:20260420T072647
CREATED:20241001T121122Z
LAST-MODIFIED:20241001T121122Z
UID:10000332-1720305000-1720308600@culturalocal.eu
SUMMARY:A la Fresca: "Duo+Music"
DESCRIPTION:La Regidoria de Promoció Cultural i Festiva organitza “A la fresca” per a dinamitzar l’oci i l’hostaleria durant l’estiu en Alcalà. Des del 29 de juny i fins al 23 d’agost\, se celebraran 9 revetlles amb música en directe tots els dissabtes en diferents carrers i places del nucli d’Alcalà i Capicorb.\n\n\n\n\n\nLa Concejalía de Promoción Cultural y Festiva organiza “A la fresca” para dinamizar el ocio y la hostelería durante el verano en Alcalà. Desde el 29 de junio y hasta el 23 de agosto\, se celebrarán 9 verbenas con música en directo todos los sábados en distintas calles y plazas del núcleo de Alcalà y Capicorb.
URL:https://culturalocal.eu/agenda/a-la-fresca-duomusic/
LOCATION:Plaça Juan Vilanova\, Plaça Juan Vilanova\, Alcalà de Xivert\, Castelló\, 12570\, España
CATEGORIES:Ajuntament Alcalà de Xivert
ATTACH;FMTTYPE=image/jpeg:https://culturalocal.eu/wp-content/uploads/2024/06/alafresca.jpg
ORGANIZER;CN="Ajuntament d'Alcal%C3%A0 de Xivert":MAILTO:info@alcaladexivert.es
END:VEVENT
BEGIN:VEVENT
DTSTART;TZID=Europe/Madrid:20240629T223000
DTEND;TZID=Europe/Madrid:20240629T233000
DTSTAMP:20260420T072647
CREATED:20241001T121122Z
LAST-MODIFIED:20241001T121122Z
UID:10000324-1719700200-1719703800@culturalocal.eu
SUMMARY:A la Fresca "Duo Calibra"
DESCRIPTION:La Regidoria de Promoció Cultural i Festiva organitza “A la fresca” per a dinamitzar l’oci i l’hostaleria durant l’estiu en Alcalà. Des del 29 de juny i fins al 23 d’agost\, se celebraran 9 revetlles amb música en directe tots els dissabtes en diferents carrers i places del nucli d’Alcalà i Capicorb.\n\n\n\n\n\nLa Concejalía de Promoción Cultural y Festiva organiza “A la fresca” para dinamizar el ocio y la hostelería durante el verano en Alcalà. Desde el 29 de junio y hasta el 23 de agosto\, se celebrarán 9 verbenas con música en directo todos los sábados en distintas calles y plazas del núcleo de Alcalà y Capicorb.
URL:https://culturalocal.eu/agenda/alafresca/
LOCATION:Plaça de l’Esglesia\, Plaça de l'Esglesia\, Alcalà de Xivert\, Castelló\, 12570\, España
CATEGORIES:Ajuntament Alcalà de Xivert
ATTACH;FMTTYPE=image/jpeg:https://culturalocal.eu/wp-content/uploads/2024/06/alafresca.jpg
ORGANIZER;CN="Ajuntament d'Alcal%C3%A0 de Xivert":MAILTO:info@alcaladexivert.es
END:VEVENT
BEGIN:VEVENT
DTSTART;TZID=Europe/Madrid:20240615T193000
DTEND;TZID=Europe/Madrid:20240615T210000
DTSTAMP:20260420T072647
CREATED:20241001T121104Z
LAST-MODIFIED:20241001T121104Z
UID:10000314-1718479800-1718485200@culturalocal.eu
SUMMARY:Audicions de l'escola de música de la Banda
DESCRIPTION:Una cita en tot el poble el 15 de Juny a les 19.30 a la plaça Ricardo Cardona\, més coneguda com la plaça del mercat\, on els alumnes tindran la oportunitat de poder interpretar les seues obres\, així com poder demostrar tot el aprenentatge que han fet durant este curs.
URL:https://culturalocal.eu/agenda/audicions-banda/
LOCATION:Plaça Ricardo Cardona\, Plaça Ricardo Cardona\, Alcalà de Xivert\, Castelló\, 12570\, España
CATEGORIES:Ajuntament Alcalà de Xivert,Associacions
ATTACH;FMTTYPE=image/jpeg:https://culturalocal.eu/wp-content/uploads/2024/06/audicions-escola-de-musica.jpg
ORGANIZER;CN="Associaci%C3%B3 Musical Santa Cec%C3%ADlia d'Alcal%C3%A0 de Xivert":MAILTO:bandaalcaladexivert@gmail.com
END:VEVENT
BEGIN:VEVENT
DTSTART;TZID=Europe/Madrid:20240609T180000
DTEND;TZID=Europe/Madrid:20240609T190000
DTSTAMP:20260420T072647
CREATED:20241001T121104Z
LAST-MODIFIED:20241001T121104Z
UID:10000315-1717956000-1717959600@culturalocal.eu
SUMMARY:Música contra el Despoblamiento
DESCRIPTION:III Encuentro de Escuelas de Música frente al Despoblamiento. Encuentro de Escuelas de Música y Bandas Juveniles de la comarca Baix Maestrat. \nDespués de dos ediciones recorriendo los municipios de Sempere\, Benissuera y Castellnovo\, esta tercera cita unirá al alumnado de las 15 sociedades musicales de la comarca del Baix Maestrat\, con más de 230 intérpretes desfilando por las calles de la localidad para finalizar con un gran concierto conjunto. Entre estas escuelas se encuentra la de la Associació Musical Santa Cecilia de Alcalà de Xivert.
URL:https://culturalocal.eu/agenda/musica-contra-el-despoblamiento/
LOCATION:Xert
CATEGORIES:Associacions,Xert
ATTACH;FMTTYPE=image/jpeg:https://culturalocal.eu/wp-content/uploads/2024/06/musicadespoblacio.jpg
ORGANIZER;CN="Federaci%C3%B3 de Societats Musicals de la Comunitat Valenciana":MAILTO:fsmcv@fsmcv.org
END:VEVENT
END:VCALENDAR