BEGIN:VCALENDAR
VERSION:2.0
PRODID:-//Agenda Cultura Local - ECPv6.15.20//NONSGML v1.0//EN
CALSCALE:GREGORIAN
METHOD:PUBLISH
X-WR-CALNAME:Agenda Cultura Local
X-ORIGINAL-URL:https://culturalocal.eu
X-WR-CALDESC:Eventos para Agenda Cultura Local
REFRESH-INTERVAL;VALUE=DURATION:PT1H
X-Robots-Tag:noindex
X-PUBLISHED-TTL:PT1H
BEGIN:VTIMEZONE
TZID:Europe/Madrid
BEGIN:DAYLIGHT
TZOFFSETFROM:+0100
TZOFFSETTO:+0200
TZNAME:CEST
DTSTART:20250330T010000
END:DAYLIGHT
BEGIN:STANDARD
TZOFFSETFROM:+0200
TZOFFSETTO:+0100
TZNAME:CET
DTSTART:20251026T010000
END:STANDARD
BEGIN:DAYLIGHT
TZOFFSETFROM:+0100
TZOFFSETTO:+0200
TZNAME:CEST
DTSTART:20260329T010000
END:DAYLIGHT
BEGIN:STANDARD
TZOFFSETFROM:+0200
TZOFFSETTO:+0100
TZNAME:CET
DTSTART:20261025T010000
END:STANDARD
BEGIN:DAYLIGHT
TZOFFSETFROM:+0100
TZOFFSETTO:+0200
TZNAME:CEST
DTSTART:20270328T010000
END:DAYLIGHT
BEGIN:STANDARD
TZOFFSETFROM:+0200
TZOFFSETTO:+0100
TZNAME:CET
DTSTART:20271031T010000
END:STANDARD
END:VTIMEZONE
BEGIN:VEVENT
DTSTART;TZID=Europe/Madrid:20260423T163000
DTEND;TZID=Europe/Madrid:20260423T183000
DTSTAMP:20260419T194051
CREATED:20260419T052349Z
LAST-MODIFIED:20260419T052349Z
UID:10003900-1776961800-1776969000@culturalocal.eu
SUMMARY:Puertas abiertas Aulario Almedíjar
DESCRIPTION:VEN A CONOCER NUESTRO PROYECTO: \n¿POR QUÉ ELEGIR UNA ESCUELA RURAL?\n🎒 Para formar parte de un proyecto educativo público y de calidad.\n🌳 Para crecer en un entorno privilegiado en plena naturaleza.\n🫱🏼‍🫲🏾 Para facilitar un acompañamiento individualizado gracias a nuestras ratios reducidas. \nEl aulario de Almedíjar pertenece al Centro Rural Agrupado «CRA Palancia Espadán». La reapertura de la escuela se hizo realidad gracias a la iniciativa vecinal «Almedíjar Vive» que se movilizó por repoblar el pueblo\, junto con el equipo del CRA. \nAHORA TE NECESITAMOS PARA QUE NUESTRA ESCUELA CREZCA Y SIGA VIVA EN NUESTRO PUEBLO 🌈
URL:https://culturalocal.eu/agenda/puertas-abiertas-aulario-almedijar/
LOCATION:Auilario Almedíjar\, Calle Constitución 1\, Almedíjar\, Castelló\, 12413\, España
ATTACH;FMTTYPE=image/jpeg:https://culturalocal.eu/wp-content/uploads/2026/04/93cc765d-ea86-45c1-a2ba-ea952b0b2807.jpeg
END:VEVENT
END:VCALENDAR