BEGIN:VCALENDAR
VERSION:2.0
PRODID:-//Agenda Cultura Local - ECPv6.15.20//NONSGML v1.0//EN
CALSCALE:GREGORIAN
METHOD:PUBLISH
X-WR-CALNAME:Agenda Cultura Local
X-ORIGINAL-URL:https://culturalocal.eu
X-WR-CALDESC:Eventos para Agenda Cultura Local
REFRESH-INTERVAL;VALUE=DURATION:PT1H
X-Robots-Tag:noindex
X-PUBLISHED-TTL:PT1H
BEGIN:VTIMEZONE
TZID:Europe/Madrid
BEGIN:DAYLIGHT
TZOFFSETFROM:+0100
TZOFFSETTO:+0200
TZNAME:CEST
DTSTART:20230326T010000
END:DAYLIGHT
BEGIN:STANDARD
TZOFFSETFROM:+0200
TZOFFSETTO:+0100
TZNAME:CET
DTSTART:20231029T010000
END:STANDARD
BEGIN:DAYLIGHT
TZOFFSETFROM:+0100
TZOFFSETTO:+0200
TZNAME:CEST
DTSTART:20240331T010000
END:DAYLIGHT
BEGIN:STANDARD
TZOFFSETFROM:+0200
TZOFFSETTO:+0100
TZNAME:CET
DTSTART:20241027T010000
END:STANDARD
BEGIN:DAYLIGHT
TZOFFSETFROM:+0100
TZOFFSETTO:+0200
TZNAME:CEST
DTSTART:20250330T010000
END:DAYLIGHT
BEGIN:STANDARD
TZOFFSETFROM:+0200
TZOFFSETTO:+0100
TZNAME:CET
DTSTART:20251026T010000
END:STANDARD
BEGIN:DAYLIGHT
TZOFFSETFROM:+0100
TZOFFSETTO:+0200
TZNAME:CEST
DTSTART:20260329T010000
END:DAYLIGHT
BEGIN:STANDARD
TZOFFSETFROM:+0200
TZOFFSETTO:+0100
TZNAME:CET
DTSTART:20261025T010000
END:STANDARD
END:VTIMEZONE
BEGIN:VEVENT
DTSTART;TZID=Europe/Madrid:20250809T223000
DTEND;TZID=Europe/Madrid:20250809T235800
DTSTAMP:20260420T005746
CREATED:20250630T002433Z
LAST-MODIFIED:20250630T002433Z
UID:10003610-1754778600-1754783880@culturalocal.eu
SUMMARY:Estiu a la fresca 2025 - Duo + Music
DESCRIPTION:
URL:https://culturalocal.eu/agenda/estiu-a-la-fresca-2025-7/
LOCATION:Carrer General Cucala\, Carrer General Cucala\, Alcalà de Xivert\, Castelló\, 12570\, España
CATEGORIES:Ajuntament Alcalà de Xivert,Alcalà de Xivert (poble),Animació
ATTACH;FMTTYPE=image/jpeg:https://culturalocal.eu/wp-content/uploads/2025/06/Estiu-A-La-Fresca.jpg
ORGANIZER;CN="Ajuntament d'Alcal%C3%A0 de Xivert":MAILTO:info@alcaladexivert.es
END:VEVENT
BEGIN:VEVENT
DTSTART;TZID=Europe/Madrid:20240810T223000
DTEND;TZID=Europe/Madrid:20240810T233000
DTSTAMP:20260420T005746
CREATED:20241001T121122Z
LAST-MODIFIED:20241001T121122Z
UID:10000337-1723329000-1723332600@culturalocal.eu
SUMMARY:A la Fresca: "Duo Hechizo"
DESCRIPTION:La Regidoria de Promoció Cultural i Festiva organitza “A la fresca” per a dinamitzar l’oci i l’hostaleria durant l’estiu en Alcalà. Des del 29 de juny i fins al 23 d’agost\, se celebraran 9 revetlles amb música en directe tots els dissabtes en diferents carrers i places del nucli d’Alcalà i Capicorb.\n\n\n\n\n\nLa Concejalía de Promoción Cultural y Festiva organiza “A la fresca” para dinamizar el ocio y la hostelería durante el verano en Alcalà. Desde el 29 de junio y hasta el 23 de agosto\, se celebrarán 9 verbenas con música en directo todos los sábados en distintas calles y plazas del núcleo de Alcalà y Capicorb.
URL:https://culturalocal.eu/agenda/a-la-fresca-duo-hechizo/
LOCATION:Carrer General Cucala\, Carrer General Cucala\, Alcalà de Xivert\, Castelló\, 12570\, España
CATEGORIES:Ajuntament Alcalà de Xivert
ATTACH;FMTTYPE=image/jpeg:https://culturalocal.eu/wp-content/uploads/2024/06/alafresca.jpg
ORGANIZER;CN="Ajuntament d'Alcal%C3%A0 de Xivert":MAILTO:info@alcaladexivert.es
END:VEVENT
END:VCALENDAR