BEGIN:VCALENDAR
VERSION:2.0
PRODID:-//Agenda Cultura Local - ECPv6.15.20//NONSGML v1.0//EN
CALSCALE:GREGORIAN
METHOD:PUBLISH
X-ORIGINAL-URL:https://culturalocal.eu
X-WR-CALDESC:Eventos para Agenda Cultura Local
REFRESH-INTERVAL;VALUE=DURATION:PT1H
X-Robots-Tag:noindex
X-PUBLISHED-TTL:PT1H
BEGIN:VTIMEZONE
TZID:Europe/Madrid
BEGIN:DAYLIGHT
TZOFFSETFROM:+0100
TZOFFSETTO:+0200
TZNAME:CEST
DTSTART:20230326T010000
END:DAYLIGHT
BEGIN:STANDARD
TZOFFSETFROM:+0200
TZOFFSETTO:+0100
TZNAME:CET
DTSTART:20231029T010000
END:STANDARD
BEGIN:DAYLIGHT
TZOFFSETFROM:+0100
TZOFFSETTO:+0200
TZNAME:CEST
DTSTART:20240331T010000
END:DAYLIGHT
BEGIN:STANDARD
TZOFFSETFROM:+0200
TZOFFSETTO:+0100
TZNAME:CET
DTSTART:20241027T010000
END:STANDARD
BEGIN:DAYLIGHT
TZOFFSETFROM:+0100
TZOFFSETTO:+0200
TZNAME:CEST
DTSTART:20250330T010000
END:DAYLIGHT
BEGIN:STANDARD
TZOFFSETFROM:+0200
TZOFFSETTO:+0100
TZNAME:CET
DTSTART:20251026T010000
END:STANDARD
BEGIN:DAYLIGHT
TZOFFSETFROM:+0100
TZOFFSETTO:+0200
TZNAME:CEST
DTSTART:20260329T010000
END:DAYLIGHT
BEGIN:STANDARD
TZOFFSETFROM:+0200
TZOFFSETTO:+0100
TZNAME:CET
DTSTART:20261025T010000
END:STANDARD
END:VTIMEZONE
BEGIN:VEVENT
DTSTART;TZID=Europe/Madrid:20250417T160000
DTEND;TZID=Europe/Madrid:20250417T210000
DTSTAMP:20260420T041012
CREATED:20250414T235252Z
LAST-MODIFIED:20250414T235805Z
UID:10003190-1744905600-1744923600@culturalocal.eu
SUMMARY:Expo Fotografia "50 Dones d'Història"
DESCRIPTION:L’exposició «50 DONES D’HISTÒRIA» es pot visitar al CESAL ALCOSSEBRE del 7 a 17 d’abril. Horari: dilluns a divendres\, de 16.00h a 21.00h
URL:https://culturalocal.eu/agenda/expo-fotografia-50-dones/2025-04-17/
LOCATION:CESAL de Alcossebre\, Carrer Ausiàs March\, Alcalà de Xivert\, Castelló\, 12579\, España
CATEGORIES:Ajuntament Alcalà de Xivert,Alcossebre (Alcalà de Xivert),Altres,Conmemoratiu,Cultura
ATTACH;FMTTYPE=image/jpeg:https://culturalocal.eu/wp-content/uploads/2025/03/expo-dones.jpg
ORGANIZER;CN="Ajuntament d'Alcal%C3%A0 de Xivert":MAILTO:info@alcaladexivert.es
END:VEVENT
BEGIN:VEVENT
DTSTART;TZID=Europe/Madrid:20250416T160000
DTEND;TZID=Europe/Madrid:20250416T210000
DTSTAMP:20260420T041012
CREATED:20250414T235252Z
LAST-MODIFIED:20250414T235805Z
UID:10003189-1744819200-1744837200@culturalocal.eu
SUMMARY:Expo Fotografia "50 Dones d'Història"
DESCRIPTION:L’exposició «50 DONES D’HISTÒRIA» es pot visitar al CESAL ALCOSSEBRE del 7 a 17 d’abril. Horari: dilluns a divendres\, de 16.00h a 21.00h
URL:https://culturalocal.eu/agenda/expo-fotografia-50-dones/2025-04-16/
LOCATION:CESAL de Alcossebre\, Carrer Ausiàs March\, Alcalà de Xivert\, Castelló\, 12579\, España
CATEGORIES:Ajuntament Alcalà de Xivert,Alcossebre (Alcalà de Xivert),Altres,Conmemoratiu,Cultura
ATTACH;FMTTYPE=image/jpeg:https://culturalocal.eu/wp-content/uploads/2025/03/expo-dones.jpg
ORGANIZER;CN="Ajuntament d'Alcal%C3%A0 de Xivert":MAILTO:info@alcaladexivert.es
END:VEVENT
BEGIN:VEVENT
DTSTART;TZID=Europe/Madrid:20250415T160000
DTEND;TZID=Europe/Madrid:20250415T210000
DTSTAMP:20260420T041012
CREATED:20250414T235252Z
LAST-MODIFIED:20250414T235805Z
UID:10003188-1744732800-1744750800@culturalocal.eu
SUMMARY:Expo Fotografia "50 Dones d'Història"
DESCRIPTION:L’exposició «50 DONES D’HISTÒRIA» es pot visitar al CESAL ALCOSSEBRE del 7 a 17 d’abril. Horari: dilluns a divendres\, de 16.00h a 21.00h
URL:https://culturalocal.eu/agenda/expo-fotografia-50-dones/2025-04-15/
LOCATION:CESAL de Alcossebre\, Carrer Ausiàs March\, Alcalà de Xivert\, Castelló\, 12579\, España
CATEGORIES:Ajuntament Alcalà de Xivert,Alcossebre (Alcalà de Xivert),Altres,Conmemoratiu,Cultura
ATTACH;FMTTYPE=image/jpeg:https://culturalocal.eu/wp-content/uploads/2025/03/expo-dones.jpg
ORGANIZER;CN="Ajuntament d'Alcal%C3%A0 de Xivert":MAILTO:info@alcaladexivert.es
END:VEVENT
BEGIN:VEVENT
DTSTART;TZID=Europe/Madrid:20250414T160000
DTEND;TZID=Europe/Madrid:20250414T210000
DTSTAMP:20260420T041012
CREATED:20250414T235252Z
LAST-MODIFIED:20250414T235805Z
UID:10003187-1744646400-1744664400@culturalocal.eu
SUMMARY:Expo Fotografia "50 Dones d'Història"
DESCRIPTION:L’exposició «50 DONES D’HISTÒRIA» es pot visitar al CESAL ALCOSSEBRE del 7 a 17 d’abril. Horari: dilluns a divendres\, de 16.00h a 21.00h
URL:https://culturalocal.eu/agenda/expo-fotografia-50-dones/2025-04-14/
LOCATION:CESAL de Alcossebre\, Carrer Ausiàs March\, Alcalà de Xivert\, Castelló\, 12579\, España
CATEGORIES:Ajuntament Alcalà de Xivert,Alcossebre (Alcalà de Xivert),Altres,Conmemoratiu,Cultura
ATTACH;FMTTYPE=image/jpeg:https://culturalocal.eu/wp-content/uploads/2025/03/expo-dones.jpg
ORGANIZER;CN="Ajuntament d'Alcal%C3%A0 de Xivert":MAILTO:info@alcaladexivert.es
END:VEVENT
BEGIN:VEVENT
DTSTART;TZID=Europe/Madrid:20250411T160000
DTEND;TZID=Europe/Madrid:20250411T210000
DTSTAMP:20260420T041012
CREATED:20250414T235252Z
LAST-MODIFIED:20250414T235805Z
UID:10003186-1744387200-1744405200@culturalocal.eu
SUMMARY:Expo Fotografia "50 Dones d'Història"
DESCRIPTION:L’exposició «50 DONES D’HISTÒRIA» es pot visitar al CESAL ALCOSSEBRE del 7 a 17 d’abril. Horari: dilluns a divendres\, de 16.00h a 21.00h
URL:https://culturalocal.eu/agenda/expo-fotografia-50-dones/2025-04-11/
LOCATION:CESAL de Alcossebre\, Carrer Ausiàs March\, Alcalà de Xivert\, Castelló\, 12579\, España
CATEGORIES:Ajuntament Alcalà de Xivert,Alcossebre (Alcalà de Xivert),Altres,Conmemoratiu,Cultura
ATTACH;FMTTYPE=image/jpeg:https://culturalocal.eu/wp-content/uploads/2025/03/expo-dones.jpg
ORGANIZER;CN="Ajuntament d'Alcal%C3%A0 de Xivert":MAILTO:info@alcaladexivert.es
END:VEVENT
BEGIN:VEVENT
DTSTART;TZID=Europe/Madrid:20250410T160000
DTEND;TZID=Europe/Madrid:20250410T210000
DTSTAMP:20260420T041012
CREATED:20250414T235252Z
LAST-MODIFIED:20250414T235805Z
UID:10003185-1744300800-1744318800@culturalocal.eu
SUMMARY:Expo Fotografia "50 Dones d'Història"
DESCRIPTION:L’exposició «50 DONES D’HISTÒRIA» es pot visitar al CESAL ALCOSSEBRE del 7 a 17 d’abril. Horari: dilluns a divendres\, de 16.00h a 21.00h
URL:https://culturalocal.eu/agenda/expo-fotografia-50-dones/2025-04-10/
LOCATION:CESAL de Alcossebre\, Carrer Ausiàs March\, Alcalà de Xivert\, Castelló\, 12579\, España
CATEGORIES:Ajuntament Alcalà de Xivert,Alcossebre (Alcalà de Xivert),Altres,Conmemoratiu,Cultura
ATTACH;FMTTYPE=image/jpeg:https://culturalocal.eu/wp-content/uploads/2025/03/expo-dones.jpg
ORGANIZER;CN="Ajuntament d'Alcal%C3%A0 de Xivert":MAILTO:info@alcaladexivert.es
END:VEVENT
BEGIN:VEVENT
DTSTART;TZID=Europe/Madrid:20250409T160000
DTEND;TZID=Europe/Madrid:20250409T210000
DTSTAMP:20260420T041012
CREATED:20250414T235252Z
LAST-MODIFIED:20250414T235805Z
UID:10003184-1744214400-1744232400@culturalocal.eu
SUMMARY:Expo Fotografia "50 Dones d'Història"
DESCRIPTION:L’exposició «50 DONES D’HISTÒRIA» es pot visitar al CESAL ALCOSSEBRE del 7 a 17 d’abril. Horari: dilluns a divendres\, de 16.00h a 21.00h
URL:https://culturalocal.eu/agenda/expo-fotografia-50-dones/2025-04-09/
LOCATION:CESAL de Alcossebre\, Carrer Ausiàs March\, Alcalà de Xivert\, Castelló\, 12579\, España
CATEGORIES:Ajuntament Alcalà de Xivert,Alcossebre (Alcalà de Xivert),Altres,Conmemoratiu,Cultura
ATTACH;FMTTYPE=image/jpeg:https://culturalocal.eu/wp-content/uploads/2025/03/expo-dones.jpg
ORGANIZER;CN="Ajuntament d'Alcal%C3%A0 de Xivert":MAILTO:info@alcaladexivert.es
END:VEVENT
BEGIN:VEVENT
DTSTART;TZID=Europe/Madrid:20250408T160000
DTEND;TZID=Europe/Madrid:20250408T210000
DTSTAMP:20260420T041012
CREATED:20250414T235252Z
LAST-MODIFIED:20250414T235805Z
UID:10003183-1744128000-1744146000@culturalocal.eu
SUMMARY:Expo Fotografia "50 Dones d'Història"
DESCRIPTION:L’exposició «50 DONES D’HISTÒRIA» es pot visitar al CESAL ALCOSSEBRE del 7 a 17 d’abril. Horari: dilluns a divendres\, de 16.00h a 21.00h
URL:https://culturalocal.eu/agenda/expo-fotografia-50-dones/2025-04-08/
LOCATION:CESAL de Alcossebre\, Carrer Ausiàs March\, Alcalà de Xivert\, Castelló\, 12579\, España
CATEGORIES:Ajuntament Alcalà de Xivert,Alcossebre (Alcalà de Xivert),Altres,Conmemoratiu,Cultura
ATTACH;FMTTYPE=image/jpeg:https://culturalocal.eu/wp-content/uploads/2025/03/expo-dones.jpg
ORGANIZER;CN="Ajuntament d'Alcal%C3%A0 de Xivert":MAILTO:info@alcaladexivert.es
END:VEVENT
BEGIN:VEVENT
DTSTART;TZID=Europe/Madrid:20250407T160000
DTEND;TZID=Europe/Madrid:20250407T210000
DTSTAMP:20260420T041012
CREATED:20250414T235252Z
LAST-MODIFIED:20250414T235805Z
UID:10003182-1744041600-1744059600@culturalocal.eu
SUMMARY:Expo Fotografia "50 Dones d'Història"
DESCRIPTION:L’exposició «50 DONES D’HISTÒRIA» es pot visitar al CESAL ALCOSSEBRE del 7 a 17 d’abril. Horari: dilluns a divendres\, de 16.00h a 21.00h
URL:https://culturalocal.eu/agenda/expo-fotografia-50-dones/2025-04-07/
LOCATION:CESAL de Alcossebre\, Carrer Ausiàs March\, Alcalà de Xivert\, Castelló\, 12579\, España
CATEGORIES:Ajuntament Alcalà de Xivert,Alcossebre (Alcalà de Xivert),Altres,Conmemoratiu,Cultura
ATTACH;FMTTYPE=image/jpeg:https://culturalocal.eu/wp-content/uploads/2025/03/expo-dones.jpg
ORGANIZER;CN="Ajuntament d'Alcal%C3%A0 de Xivert":MAILTO:info@alcaladexivert.es
END:VEVENT
BEGIN:VEVENT
DTSTART;TZID=Europe/Madrid:20250315T110000
DTEND;TZID=Europe/Madrid:20250315T130000
DTSTAMP:20260420T041012
CREATED:20250312T090737Z
LAST-MODIFIED:20250312T100259Z
UID:10002496-1742036400-1742043600@culturalocal.eu
SUMMARY:Inauguració 50 Dones d'Història - Expo Fotografia
DESCRIPTION:Dissabte 15 de març\, a les 11.00h\, al CESAL d’Alcossebre inaugurarem l’exposició fotogràfica itinerant  50 DONES D’HISTÒRIA\, un projecte de la Regidoria d’Igualtat\, dins dels actes del Mes de la Dona\, per a visibilitzar les diferents facetes vitals de 50 dones del nostre poble.\nEsteu tots i totes convidats a assistir a la inauguració!\n\n\nEl sábado 15 de marzo\, a las 11.00h\, en el CESAL de Alcossebre inauguramos la exposición fotográfica itinerante  50 DONES D’HISTÒRIA\, un proyecto de la Concejalía de Igualdad\, dentro de los actos del Mes de la Dona\, para visibilizar las distintas facetas vitales de 50 mujeres de nuestro pueblo.\n¡Estáis todos y todas invitados a asistir a la inauguración!
URL:https://culturalocal.eu/agenda/inauguracio-50-dones-dhistoria/
LOCATION:CESAL de Alcossebre\, Carrer Ausiàs March\, Alcalà de Xivert\, Castelló\, 12579\, España
CATEGORIES:Ajuntament Alcalà de Xivert,Alcossebre (Alcalà de Xivert),Altres,Conmemoratiu,Cultura
ATTACH;FMTTYPE=image/jpeg:https://culturalocal.eu/wp-content/uploads/2025/03/expo-dones.jpg
ORGANIZER;CN="Ajuntament d'Alcal%C3%A0 de Xivert":MAILTO:info@alcaladexivert.es
END:VEVENT
BEGIN:VEVENT
DTSTART;TZID=Europe/Madrid:20250203T110000
DTEND;TZID=Europe/Madrid:20250203T170000
DTSTAMP:20260420T041012
CREATED:20250304T161319Z
LAST-MODIFIED:20250304T161319Z
UID:10002489-1738580400-1738602000@culturalocal.eu
SUMMARY:Trobada de cuiners
DESCRIPTION:#EncuentroCocineros #gastronomia #AlcalàAlcossebre\n\n\n Volvemos a los fogones !!! Convocamos a tod@s l@s cociner@s de Alcalà de Xivert y Alcossebre (exclusivamente cocineros y cocineras) a una jornada donde la gastronomía será el eje principal de todas las actividades.\n\n\n Lunes 3 de febrero\, a las 11:15h en el Edificio Cesal de Alcossebre.\n\n\n Tras la recepción de cociner@s\, Sergio González Benages nos realizará una presentación del proyecto ARQUEOGASTROMÍA\, donde cataremos vinagres de “El Majuelo”\, vinos de “Meridiano Perdido” y quesos.\n\n\n Tras la cata\, hora de preparar la comida acompañados de un aperitivo. Este año toca un “arròs d’hivern”.\n\n\n Postres\, café y sobremesa\, con la cocina como tema de conversación !\n\n\n Por favor\, confirmad asistencia llamando o por whatsapp a Juanma Vinuesa (626018158) o a Miguel Martorell (629174936).\n\n\nNuestros agradecimientos por toda la colaboración del evento a:\n Ajuntament Alcalà-Alcossebre\n Sergio González Benages\n Paco González Yuste\n Arqueogastronomía\, experiencias gastronómicas y Turismo Cultural\n Dispasa Alimentaria\n Meridiano Perdido\, viñedos singulares\n El Majuelo
URL:https://culturalocal.eu/agenda/trobada-de-cuiners/
LOCATION:CESAL de Alcossebre\, Carrer Ausiàs March\, Alcalà de Xivert\, Castelló\, 12579\, España
CATEGORIES:Alcossebre (Alcalà de Xivert),Amigos del Buen Yantar,Associacions,Gastronomia
ATTACH;FMTTYPE=image/jpeg:https://culturalocal.eu/wp-content/uploads/2025/02/buenyantar.jpg
END:VEVENT
BEGIN:VEVENT
DTSTART;TZID=Europe/Madrid:20240920T180000
DTEND;TZID=Europe/Madrid:20240920T210000
DTSTAMP:20260420T041012
CREATED:20241001T121122Z
LAST-MODIFIED:20241001T121122Z
UID:10002019-1726855200-1726866000@culturalocal.eu
SUMMARY:Colores de Paz. Exposició
DESCRIPTION:
URL:https://culturalocal.eu/agenda/colores-de-paz-exposicio/2024-09-20/
LOCATION:CESAL de Alcossebre\, Carrer Ausiàs March\, Alcalà de Xivert\, Castelló\, 12579\, España
CATEGORIES:Ajuntament Alcalà de Xivert,Particular
ATTACH;FMTTYPE=image/jpeg:https://culturalocal.eu/wp-content/uploads/2024/08/Expo-ColoresDePaz.jpg
ORGANIZER;CN="Ajuntament d'Alcal%C3%A0 de Xivert":MAILTO:info@alcaladexivert.es
END:VEVENT
BEGIN:VEVENT
DTSTART;TZID=Europe/Madrid:20240919T180000
DTEND;TZID=Europe/Madrid:20240919T210000
DTSTAMP:20260420T041012
CREATED:20241001T121122Z
LAST-MODIFIED:20241001T121122Z
UID:10002018-1726768800-1726779600@culturalocal.eu
SUMMARY:Colores de Paz. Exposició
DESCRIPTION:
URL:https://culturalocal.eu/agenda/colores-de-paz-exposicio/2024-09-19/
LOCATION:CESAL de Alcossebre\, Carrer Ausiàs March\, Alcalà de Xivert\, Castelló\, 12579\, España
CATEGORIES:Ajuntament Alcalà de Xivert,Particular
ATTACH;FMTTYPE=image/jpeg:https://culturalocal.eu/wp-content/uploads/2024/08/Expo-ColoresDePaz.jpg
ORGANIZER;CN="Ajuntament d'Alcal%C3%A0 de Xivert":MAILTO:info@alcaladexivert.es
END:VEVENT
BEGIN:VEVENT
DTSTART;TZID=Europe/Madrid:20240918T180000
DTEND;TZID=Europe/Madrid:20240918T210000
DTSTAMP:20260420T041012
CREATED:20241001T121122Z
LAST-MODIFIED:20241001T121122Z
UID:10002017-1726682400-1726693200@culturalocal.eu
SUMMARY:Colores de Paz. Exposició
DESCRIPTION:
URL:https://culturalocal.eu/agenda/colores-de-paz-exposicio/2024-09-18/
LOCATION:CESAL de Alcossebre\, Carrer Ausiàs March\, Alcalà de Xivert\, Castelló\, 12579\, España
CATEGORIES:Ajuntament Alcalà de Xivert,Particular
ATTACH;FMTTYPE=image/jpeg:https://culturalocal.eu/wp-content/uploads/2024/08/Expo-ColoresDePaz.jpg
ORGANIZER;CN="Ajuntament d'Alcal%C3%A0 de Xivert":MAILTO:info@alcaladexivert.es
END:VEVENT
BEGIN:VEVENT
DTSTART;TZID=Europe/Madrid:20240917T180000
DTEND;TZID=Europe/Madrid:20240917T210000
DTSTAMP:20260420T041012
CREATED:20241001T121122Z
LAST-MODIFIED:20241001T121122Z
UID:10002016-1726596000-1726606800@culturalocal.eu
SUMMARY:Colores de Paz. Exposició
DESCRIPTION:
URL:https://culturalocal.eu/agenda/colores-de-paz-exposicio/2024-09-17/
LOCATION:CESAL de Alcossebre\, Carrer Ausiàs March\, Alcalà de Xivert\, Castelló\, 12579\, España
CATEGORIES:Ajuntament Alcalà de Xivert,Particular
ATTACH;FMTTYPE=image/jpeg:https://culturalocal.eu/wp-content/uploads/2024/08/Expo-ColoresDePaz.jpg
ORGANIZER;CN="Ajuntament d'Alcal%C3%A0 de Xivert":MAILTO:info@alcaladexivert.es
END:VEVENT
BEGIN:VEVENT
DTSTART;TZID=Europe/Madrid:20240916T180000
DTEND;TZID=Europe/Madrid:20240916T210000
DTSTAMP:20260420T041012
CREATED:20241001T121122Z
LAST-MODIFIED:20241001T121122Z
UID:10002015-1726509600-1726520400@culturalocal.eu
SUMMARY:Colores de Paz. Exposició
DESCRIPTION:
URL:https://culturalocal.eu/agenda/colores-de-paz-exposicio/2024-09-16/
LOCATION:CESAL de Alcossebre\, Carrer Ausiàs March\, Alcalà de Xivert\, Castelló\, 12579\, España
CATEGORIES:Ajuntament Alcalà de Xivert,Particular
ATTACH;FMTTYPE=image/jpeg:https://culturalocal.eu/wp-content/uploads/2024/08/Expo-ColoresDePaz.jpg
ORGANIZER;CN="Ajuntament d'Alcal%C3%A0 de Xivert":MAILTO:info@alcaladexivert.es
END:VEVENT
BEGIN:VEVENT
DTSTART;TZID=Europe/Madrid:20240913T180000
DTEND;TZID=Europe/Madrid:20240913T210000
DTSTAMP:20260420T041012
CREATED:20241001T121122Z
LAST-MODIFIED:20241001T121122Z
UID:10002014-1726250400-1726261200@culturalocal.eu
SUMMARY:Colores de Paz. Exposició
DESCRIPTION:
URL:https://culturalocal.eu/agenda/colores-de-paz-exposicio/2024-09-13/
LOCATION:CESAL de Alcossebre\, Carrer Ausiàs March\, Alcalà de Xivert\, Castelló\, 12579\, España
CATEGORIES:Ajuntament Alcalà de Xivert,Particular
ATTACH;FMTTYPE=image/jpeg:https://culturalocal.eu/wp-content/uploads/2024/08/Expo-ColoresDePaz.jpg
ORGANIZER;CN="Ajuntament d'Alcal%C3%A0 de Xivert":MAILTO:info@alcaladexivert.es
END:VEVENT
BEGIN:VEVENT
DTSTART;TZID=Europe/Madrid:20240912T180000
DTEND;TZID=Europe/Madrid:20240912T210000
DTSTAMP:20260420T041012
CREATED:20241001T121122Z
LAST-MODIFIED:20241001T121122Z
UID:10002013-1726164000-1726174800@culturalocal.eu
SUMMARY:Colores de Paz. Exposició
DESCRIPTION:
URL:https://culturalocal.eu/agenda/colores-de-paz-exposicio/2024-09-12/
LOCATION:CESAL de Alcossebre\, Carrer Ausiàs March\, Alcalà de Xivert\, Castelló\, 12579\, España
CATEGORIES:Ajuntament Alcalà de Xivert,Particular
ATTACH;FMTTYPE=image/jpeg:https://culturalocal.eu/wp-content/uploads/2024/08/Expo-ColoresDePaz.jpg
ORGANIZER;CN="Ajuntament d'Alcal%C3%A0 de Xivert":MAILTO:info@alcaladexivert.es
END:VEVENT
BEGIN:VEVENT
DTSTART;TZID=Europe/Madrid:20240911T180000
DTEND;TZID=Europe/Madrid:20240911T210000
DTSTAMP:20260420T041012
CREATED:20241001T121122Z
LAST-MODIFIED:20241001T121122Z
UID:10002012-1726077600-1726088400@culturalocal.eu
SUMMARY:Colores de Paz. Exposició
DESCRIPTION:
URL:https://culturalocal.eu/agenda/colores-de-paz-exposicio/2024-09-11/
LOCATION:CESAL de Alcossebre\, Carrer Ausiàs March\, Alcalà de Xivert\, Castelló\, 12579\, España
CATEGORIES:Ajuntament Alcalà de Xivert,Particular
ATTACH;FMTTYPE=image/jpeg:https://culturalocal.eu/wp-content/uploads/2024/08/Expo-ColoresDePaz.jpg
ORGANIZER;CN="Ajuntament d'Alcal%C3%A0 de Xivert":MAILTO:info@alcaladexivert.es
END:VEVENT
BEGIN:VEVENT
DTSTART;TZID=Europe/Madrid:20240910T180000
DTEND;TZID=Europe/Madrid:20240910T210000
DTSTAMP:20260420T041012
CREATED:20241001T121122Z
LAST-MODIFIED:20241001T121122Z
UID:10002011-1725991200-1726002000@culturalocal.eu
SUMMARY:Colores de Paz. Exposició
DESCRIPTION:
URL:https://culturalocal.eu/agenda/colores-de-paz-exposicio/2024-09-10/
LOCATION:CESAL de Alcossebre\, Carrer Ausiàs March\, Alcalà de Xivert\, Castelló\, 12579\, España
CATEGORIES:Ajuntament Alcalà de Xivert,Particular
ATTACH;FMTTYPE=image/jpeg:https://culturalocal.eu/wp-content/uploads/2024/08/Expo-ColoresDePaz.jpg
ORGANIZER;CN="Ajuntament d'Alcal%C3%A0 de Xivert":MAILTO:info@alcaladexivert.es
END:VEVENT
BEGIN:VEVENT
DTSTART;TZID=Europe/Madrid:20240909T180000
DTEND;TZID=Europe/Madrid:20240909T210000
DTSTAMP:20260420T041012
CREATED:20241001T121122Z
LAST-MODIFIED:20241001T121122Z
UID:10002010-1725904800-1725915600@culturalocal.eu
SUMMARY:Colores de Paz. Exposició
DESCRIPTION:
URL:https://culturalocal.eu/agenda/colores-de-paz-exposicio/2024-09-09/
LOCATION:CESAL de Alcossebre\, Carrer Ausiàs March\, Alcalà de Xivert\, Castelló\, 12579\, España
CATEGORIES:Ajuntament Alcalà de Xivert,Particular
ATTACH;FMTTYPE=image/jpeg:https://culturalocal.eu/wp-content/uploads/2024/08/Expo-ColoresDePaz.jpg
ORGANIZER;CN="Ajuntament d'Alcal%C3%A0 de Xivert":MAILTO:info@alcaladexivert.es
END:VEVENT
BEGIN:VEVENT
DTSTART;TZID=Europe/Madrid:20240802T183000
DTEND;TZID=Europe/Madrid:20240802T213000
DTSTAMP:20260420T041012
CREATED:20241001T121135Z
LAST-MODIFIED:20241001T121135Z
UID:10001933-1722623400-1722634200@culturalocal.eu
SUMMARY:Expocició Escultures de Pedro Anía
DESCRIPTION:
URL:https://culturalocal.eu/agenda/expocicio-escultures-de-pedro-ania-2/2024-08-02/
LOCATION:CESAL de Alcossebre\, Carrer Ausiàs March\, Alcalà de Xivert\, Castelló\, 12579\, España
CATEGORIES:Ajuntament Alcalà de Xivert,Alcossebre (Alcalà de Xivert)
ATTACH;FMTTYPE=image/jpeg:https://culturalocal.eu/wp-content/uploads/2024/07/ExpoPedroAniaGerez.jpg
ORGANIZER;CN="Ajuntament d'Alcal%C3%A0 de Xivert":MAILTO:info@alcaladexivert.es
END:VEVENT
BEGIN:VEVENT
DTSTART;TZID=Europe/Madrid:20240801T183000
DTEND;TZID=Europe/Madrid:20240801T213000
DTSTAMP:20260420T041012
CREATED:20241001T121135Z
LAST-MODIFIED:20241001T121135Z
UID:10001932-1722537000-1722547800@culturalocal.eu
SUMMARY:Expocició Escultures de Pedro Anía
DESCRIPTION:
URL:https://culturalocal.eu/agenda/expocicio-escultures-de-pedro-ania-2/2024-08-01/
LOCATION:CESAL de Alcossebre\, Carrer Ausiàs March\, Alcalà de Xivert\, Castelló\, 12579\, España
CATEGORIES:Ajuntament Alcalà de Xivert,Alcossebre (Alcalà de Xivert)
ATTACH;FMTTYPE=image/jpeg:https://culturalocal.eu/wp-content/uploads/2024/07/ExpoPedroAniaGerez.jpg
ORGANIZER;CN="Ajuntament d'Alcal%C3%A0 de Xivert":MAILTO:info@alcaladexivert.es
END:VEVENT
BEGIN:VEVENT
DTSTART;TZID=Europe/Madrid:20240731T183000
DTEND;TZID=Europe/Madrid:20240731T213000
DTSTAMP:20260420T041012
CREATED:20241001T121135Z
LAST-MODIFIED:20241001T121135Z
UID:10001931-1722450600-1722461400@culturalocal.eu
SUMMARY:Expocició Escultures de Pedro Anía
DESCRIPTION:
URL:https://culturalocal.eu/agenda/expocicio-escultures-de-pedro-ania-2/2024-07-31/
LOCATION:CESAL de Alcossebre\, Carrer Ausiàs March\, Alcalà de Xivert\, Castelló\, 12579\, España
CATEGORIES:Ajuntament Alcalà de Xivert,Alcossebre (Alcalà de Xivert)
ATTACH;FMTTYPE=image/jpeg:https://culturalocal.eu/wp-content/uploads/2024/07/ExpoPedroAniaGerez.jpg
ORGANIZER;CN="Ajuntament d'Alcal%C3%A0 de Xivert":MAILTO:info@alcaladexivert.es
END:VEVENT
BEGIN:VEVENT
DTSTART;TZID=Europe/Madrid:20240730T183000
DTEND;TZID=Europe/Madrid:20240730T213000
DTSTAMP:20260420T041012
CREATED:20241001T121135Z
LAST-MODIFIED:20241001T121135Z
UID:10001554-1722364200-1722375000@culturalocal.eu
SUMMARY:Expocició Escultures de Pedro Anía
DESCRIPTION:
URL:https://culturalocal.eu/agenda/expocicio-escultures-de-pedro-ania/2024-07-30/
LOCATION:CESAL de Alcossebre\, Carrer Ausiàs March\, Alcalà de Xivert\, Castelló\, 12579\, España
CATEGORIES:Ajuntament Alcalà de Xivert,Alcossebre (Alcalà de Xivert)
ATTACH;FMTTYPE=image/jpeg:https://culturalocal.eu/wp-content/uploads/2024/07/ExpoPedroAniaGerez.jpg
ORGANIZER;CN="Ajuntament d'Alcal%C3%A0 de Xivert":MAILTO:info@alcaladexivert.es
END:VEVENT
BEGIN:VEVENT
DTSTART;TZID=Europe/Madrid:20240729T183000
DTEND;TZID=Europe/Madrid:20240729T213000
DTSTAMP:20260420T041012
CREATED:20241001T121135Z
LAST-MODIFIED:20241001T121135Z
UID:10001553-1722277800-1722288600@culturalocal.eu
SUMMARY:Expocició Escultures de Pedro Anía
DESCRIPTION:
URL:https://culturalocal.eu/agenda/expocicio-escultures-de-pedro-ania/2024-07-29/
LOCATION:CESAL de Alcossebre\, Carrer Ausiàs March\, Alcalà de Xivert\, Castelló\, 12579\, España
CATEGORIES:Ajuntament Alcalà de Xivert,Alcossebre (Alcalà de Xivert)
ATTACH;FMTTYPE=image/jpeg:https://culturalocal.eu/wp-content/uploads/2024/07/ExpoPedroAniaGerez.jpg
ORGANIZER;CN="Ajuntament d'Alcal%C3%A0 de Xivert":MAILTO:info@alcaladexivert.es
END:VEVENT
BEGIN:VEVENT
DTSTART;TZID=Europe/Madrid:20240728T183000
DTEND;TZID=Europe/Madrid:20240728T213000
DTSTAMP:20260420T041012
CREATED:20241001T121135Z
LAST-MODIFIED:20241001T121135Z
UID:10001928-1722191400-1722202200@culturalocal.eu
SUMMARY:Expocició Escultures de Pedro Anía
DESCRIPTION:
URL:https://culturalocal.eu/agenda/expocicio-escultures-de-pedro-ania-2/2024-07-28/
LOCATION:CESAL de Alcossebre\, Carrer Ausiàs March\, Alcalà de Xivert\, Castelló\, 12579\, España
CATEGORIES:Ajuntament Alcalà de Xivert,Alcossebre (Alcalà de Xivert)
ATTACH;FMTTYPE=image/jpeg:https://culturalocal.eu/wp-content/uploads/2024/07/ExpoPedroAniaGerez.jpg
ORGANIZER;CN="Ajuntament d'Alcal%C3%A0 de Xivert":MAILTO:info@alcaladexivert.es
END:VEVENT
BEGIN:VEVENT
DTSTART;TZID=Europe/Madrid:20240727T183000
DTEND;TZID=Europe/Madrid:20240727T213000
DTSTAMP:20260420T041012
CREATED:20241001T121135Z
LAST-MODIFIED:20241001T121135Z
UID:10001551-1722105000-1722115800@culturalocal.eu
SUMMARY:Expocició Escultures de Pedro Anía
DESCRIPTION:
URL:https://culturalocal.eu/agenda/expocicio-escultures-de-pedro-ania/2024-07-27/
LOCATION:CESAL de Alcossebre\, Carrer Ausiàs March\, Alcalà de Xivert\, Castelló\, 12579\, España
CATEGORIES:Ajuntament Alcalà de Xivert,Alcossebre (Alcalà de Xivert)
ATTACH;FMTTYPE=image/jpeg:https://culturalocal.eu/wp-content/uploads/2024/07/ExpoPedroAniaGerez.jpg
ORGANIZER;CN="Ajuntament d'Alcal%C3%A0 de Xivert":MAILTO:info@alcaladexivert.es
END:VEVENT
BEGIN:VEVENT
DTSTART;TZID=Europe/Madrid:20240726T183000
DTEND;TZID=Europe/Madrid:20240726T213000
DTSTAMP:20260420T041012
CREATED:20241001T121135Z
LAST-MODIFIED:20241001T121135Z
UID:10001550-1722018600-1722029400@culturalocal.eu
SUMMARY:Expocició Escultures de Pedro Anía
DESCRIPTION:
URL:https://culturalocal.eu/agenda/expocicio-escultures-de-pedro-ania/2024-07-26/
LOCATION:CESAL de Alcossebre\, Carrer Ausiàs March\, Alcalà de Xivert\, Castelló\, 12579\, España
CATEGORIES:Ajuntament Alcalà de Xivert,Alcossebre (Alcalà de Xivert)
ATTACH;FMTTYPE=image/jpeg:https://culturalocal.eu/wp-content/uploads/2024/07/ExpoPedroAniaGerez.jpg
ORGANIZER;CN="Ajuntament d'Alcal%C3%A0 de Xivert":MAILTO:info@alcaladexivert.es
END:VEVENT
BEGIN:VEVENT
DTSTART;TZID=Europe/Madrid:20240725T183000
DTEND;TZID=Europe/Madrid:20240725T213000
DTSTAMP:20260420T041012
CREATED:20241001T121135Z
LAST-MODIFIED:20241001T121135Z
UID:10001925-1721932200-1721943000@culturalocal.eu
SUMMARY:Expocició Escultures de Pedro Anía
DESCRIPTION:
URL:https://culturalocal.eu/agenda/expocicio-escultures-de-pedro-ania-2/2024-07-25/
LOCATION:CESAL de Alcossebre\, Carrer Ausiàs March\, Alcalà de Xivert\, Castelló\, 12579\, España
CATEGORIES:Ajuntament Alcalà de Xivert,Alcossebre (Alcalà de Xivert)
ATTACH;FMTTYPE=image/jpeg:https://culturalocal.eu/wp-content/uploads/2024/07/ExpoPedroAniaGerez.jpg
ORGANIZER;CN="Ajuntament d'Alcal%C3%A0 de Xivert":MAILTO:info@alcaladexivert.es
END:VEVENT
END:VCALENDAR