BEGIN:VCALENDAR
VERSION:2.0
PRODID:-//Agenda Cultura Local - ECPv6.15.20//NONSGML v1.0//EN
CALSCALE:GREGORIAN
METHOD:PUBLISH
X-WR-CALNAME:Agenda Cultura Local
X-ORIGINAL-URL:https://culturalocal.eu
X-WR-CALDESC:Eventos para Agenda Cultura Local
REFRESH-INTERVAL;VALUE=DURATION:PT1H
X-Robots-Tag:noindex
X-PUBLISHED-TTL:PT1H
BEGIN:VTIMEZONE
TZID:Europe/Madrid
BEGIN:DAYLIGHT
TZOFFSETFROM:+0100
TZOFFSETTO:+0200
TZNAME:CEST
DTSTART:20230326T010000
END:DAYLIGHT
BEGIN:STANDARD
TZOFFSETFROM:+0200
TZOFFSETTO:+0100
TZNAME:CET
DTSTART:20231029T010000
END:STANDARD
BEGIN:DAYLIGHT
TZOFFSETFROM:+0100
TZOFFSETTO:+0200
TZNAME:CEST
DTSTART:20240331T010000
END:DAYLIGHT
BEGIN:STANDARD
TZOFFSETFROM:+0200
TZOFFSETTO:+0100
TZNAME:CET
DTSTART:20241027T010000
END:STANDARD
BEGIN:DAYLIGHT
TZOFFSETFROM:+0100
TZOFFSETTO:+0200
TZNAME:CEST
DTSTART:20250330T010000
END:DAYLIGHT
BEGIN:STANDARD
TZOFFSETFROM:+0200
TZOFFSETTO:+0100
TZNAME:CET
DTSTART:20251026T010000
END:STANDARD
BEGIN:DAYLIGHT
TZOFFSETFROM:+0100
TZOFFSETTO:+0200
TZNAME:CEST
DTSTART:20260329T010000
END:DAYLIGHT
BEGIN:STANDARD
TZOFFSETFROM:+0200
TZOFFSETTO:+0100
TZNAME:CET
DTSTART:20261025T010000
END:STANDARD
END:VTIMEZONE
BEGIN:VEVENT
DTSTART;TZID=Europe/Madrid:20250419T100000
DTEND;TZID=Europe/Madrid:20250419T213000
DTSTAMP:20260424T171334
CREATED:20250414T230857Z
LAST-MODIFIED:20250414T231058Z
UID:10003175-1745056800-1745098200@culturalocal.eu
SUMMARY:II Mostra de cervesa LA NOSTRA d'Alcossebre
DESCRIPTION:Organitza Empresarios Alcalà-Alcossebre amb la col·laboració de l’Ajuntament. En la pinada de la Platja del Carregador\, de 10:00 a 13:30 y de 17:30 a 21:30
URL:https://culturalocal.eu/agenda/la-nostra-dalcossebre/
LOCATION:Playa del Cargador\, Camí de l'Atall Zona d'Alcossebre\, 27\, Alcossebre\, Castelló\, 12579
CATEGORIES:Alcossebre (Alcalà de Xivert),Associació Empresaris Alcalà-Alcossebre,Associacions,Gastronomia,PER ASSOCIACIÓ
ATTACH;FMTTYPE=image/jpeg:https://culturalocal.eu/wp-content/uploads/2025/04/lanostra.jpg
ORGANIZER;CN="Asociaci%C3%B3n de Empresarios Alcal%C3%A0 Alcossebre":MAILTO:agrupaciodempresaris@yahoo.es
END:VEVENT
BEGIN:VEVENT
DTSTART;TZID=Europe/Madrid:20240608T190000
DTEND;TZID=Europe/Madrid:20240608T210000
DTSTAMP:20260424T171334
CREATED:20241001T121104Z
LAST-MODIFIED:20241001T121104Z
UID:10000310-1717873200-1717880400@culturalocal.eu
SUMMARY:Tejer en Público
DESCRIPTION:La creació d’esta efemèride\, l’any 2005\, ha sigut per iniciativa de Danielle Landes\, amb la finalitat de promoure esta activitat creativa i ancestral\, la qual ha sigut considerada tradicionalment com una pràctica de les avietes en solitari. Molt al contrari\, s’ha demostrat que el teixit involucra a persones de totes les edats i de tots dos sexes\, afavorint les activitats manuals i la socialització.\n—\nLa creación de esta efeméride\, en el año 2005\, ha sido por iniciativa de Danielle Landes\, con la finalidad de promover esta actividad creativa y ancestral\, la cual ha sido considerada tradicionalmente como una práctica de las abuelitas en solitario. Muy al contrario\, se ha demostrado que el tejido involucra a personas de todas las edades y de ambos sexos\, favoreciendo las actividades manuales y la socialización.\n—\nThe creation of this ephemeris\, in 2005\, was the initiative of Danielle Landes\, with the aim of promoting this creative and ancestral activity\, which has traditionally been considered a solitary practice of grandmothers. On the contrary\, it has been demonstrated that weaving involves people of all ages and both sexes\, favouring manual activities and socialisation. \n 
URL:https://culturalocal.eu/agenda/tejer-en-publico/
LOCATION:Playa del Cargador\, Camí de l'Atall Zona d'Alcossebre\, 27\, Alcossebre\, Castelló\, 12579
CATEGORIES:Ajuntament Alcalà de Xivert,Alcossebre (Alcalà de Xivert),Ana María Martín - Gestora Cultural
ATTACH;FMTTYPE=image/jpeg:https://culturalocal.eu/wp-content/uploads/2024/06/tejerenpublico.jpg
END:VEVENT
END:VCALENDAR