BEGIN:VCALENDAR
VERSION:2.0
PRODID:-//Agenda Cultura Local - ECPv6.15.20//NONSGML v1.0//EN
CALSCALE:GREGORIAN
METHOD:PUBLISH
X-WR-CALNAME:Agenda Cultura Local
X-ORIGINAL-URL:https://culturalocal.eu
X-WR-CALDESC:Eventos para Agenda Cultura Local
REFRESH-INTERVAL;VALUE=DURATION:PT1H
X-Robots-Tag:noindex
X-PUBLISHED-TTL:PT1H
BEGIN:VTIMEZONE
TZID:Europe/Madrid
BEGIN:DAYLIGHT
TZOFFSETFROM:+0100
TZOFFSETTO:+0200
TZNAME:CEST
DTSTART:20230326T010000
END:DAYLIGHT
BEGIN:STANDARD
TZOFFSETFROM:+0200
TZOFFSETTO:+0100
TZNAME:CET
DTSTART:20231029T010000
END:STANDARD
BEGIN:DAYLIGHT
TZOFFSETFROM:+0100
TZOFFSETTO:+0200
TZNAME:CEST
DTSTART:20240331T010000
END:DAYLIGHT
BEGIN:STANDARD
TZOFFSETFROM:+0200
TZOFFSETTO:+0100
TZNAME:CET
DTSTART:20241027T010000
END:STANDARD
BEGIN:DAYLIGHT
TZOFFSETFROM:+0100
TZOFFSETTO:+0200
TZNAME:CEST
DTSTART:20250330T010000
END:DAYLIGHT
BEGIN:STANDARD
TZOFFSETFROM:+0200
TZOFFSETTO:+0100
TZNAME:CET
DTSTART:20251026T010000
END:STANDARD
END:VTIMEZONE
BEGIN:VEVENT
DTSTART;TZID=Europe/Madrid:20240525T210000
DTEND;TZID=Europe/Madrid:20240525T223000
DTSTAMP:20260422T195333
CREATED:20241001T121051Z
LAST-MODIFIED:20241001T121051Z
UID:10000304-1716670800-1716676200@culturalocal.eu
SUMMARY:Hannah\, música POP
DESCRIPTION:Música en directe al restaurant Can Somnbi d’Alcossebre \n\nMúsica en directo en el restaurante Can Somni de Alcossebre \n\nLive music at Can Somni Restaurant\, in Alcossebre
URL:https://culturalocal.eu/agenda/hannah-musica-pop/
LOCATION:Restaurante Can Somni\, Playa del moro\, Camí de l'Atall 58A\, Alcossebre\, Castelló\, 12579\, España
CATEGORIES:Ajuntament Alcalà de Xivert,Alcossebre (Alcalà de Xivert)
ATTACH;FMTTYPE=image/jpeg:https://culturalocal.eu/wp-content/uploads/2024/05/CANSOMNI.jpg
END:VEVENT
END:VCALENDAR