BEGIN:VCALENDAR
VERSION:2.0
PRODID:-//Agenda Cultura Local - ECPv6.15.20//NONSGML v1.0//EN
CALSCALE:GREGORIAN
METHOD:PUBLISH
X-ORIGINAL-URL:https://culturalocal.eu
X-WR-CALDESC:Eventos para Agenda Cultura Local
REFRESH-INTERVAL;VALUE=DURATION:PT1H
X-Robots-Tag:noindex
X-PUBLISHED-TTL:PT1H
BEGIN:VTIMEZONE
TZID:Europe/Madrid
BEGIN:DAYLIGHT
TZOFFSETFROM:+0100
TZOFFSETTO:+0200
TZNAME:CEST
DTSTART:20230326T010000
END:DAYLIGHT
BEGIN:STANDARD
TZOFFSETFROM:+0200
TZOFFSETTO:+0100
TZNAME:CET
DTSTART:20231029T010000
END:STANDARD
BEGIN:DAYLIGHT
TZOFFSETFROM:+0100
TZOFFSETTO:+0200
TZNAME:CEST
DTSTART:20240331T010000
END:DAYLIGHT
BEGIN:STANDARD
TZOFFSETFROM:+0200
TZOFFSETTO:+0100
TZNAME:CET
DTSTART:20241027T010000
END:STANDARD
BEGIN:DAYLIGHT
TZOFFSETFROM:+0100
TZOFFSETTO:+0200
TZNAME:CEST
DTSTART:20250330T010000
END:DAYLIGHT
BEGIN:STANDARD
TZOFFSETFROM:+0200
TZOFFSETTO:+0100
TZNAME:CET
DTSTART:20251026T010000
END:STANDARD
END:VTIMEZONE
BEGIN:VEVENT
DTSTART;TZID=Europe/Madrid:20240905T210000
DTEND;TZID=Europe/Madrid:20240905T233000
DTSTAMP:20260420T085028
CREATED:20241001T121104Z
LAST-MODIFIED:20241001T121104Z
UID:10001030-1725570000-1725579000@culturalocal.eu
SUMMARY:Música en vivo en La Villa
DESCRIPTION:Sumérgete en una experiencia única donde la buena comida y la música en vivo se fusionan para crear una velada inolvidable. Nuestro restaurante\, todos los jueves\, se transforma en un escenario vibrante donde talentosos músicos locales llenan el aire con melodías cautivadoras mientras disfrutas de una exquisita cena.Como siempre\, ofrecemos una amplia variedad de platos preparados con ingredientes frescos y de alta calidad. Desde nuestras suculentas carnes y pescados a la brasa hasta los postres más esquisitos\, cada bocado está diseñado para deleitar tu paladar. Y para acompañar tu comida\, nuestra carta de vinos cuidadosamente seleccionados complementa perfectamente cada sabor.Ven y descubre por qué La Villa restaurante es el lugar ideal para disfrutar de una cena que despierta todos tus sentidos.Reserva tu mesa (964297365) y prepárate para una noche llena de sabores deliciosos y canciones que enamoran! *disponible todos los jueves
URL:https://culturalocal.eu/agenda/musica-en-vivo-en-la-villa/2024-09-05/
LOCATION:Restaurante La Villa\, Passeig Marítim 37\, Alcossebre\, Castelló\, 12579\, España
CATEGORIES:Empresa local
ATTACH;FMTTYPE=image/jpeg:https://culturalocal.eu/wp-content/uploads/2024/07/LaVilla.jpg
ORGANIZER;CN="Restaurante La Villa":MAILTO:lavillaalcossebre@gmail.com
END:VEVENT
BEGIN:VEVENT
DTSTART;TZID=Europe/Madrid:20240829T210000
DTEND;TZID=Europe/Madrid:20240829T233000
DTSTAMP:20260420T085028
CREATED:20241001T121104Z
LAST-MODIFIED:20241001T121104Z
UID:10001029-1724965200-1724974200@culturalocal.eu
SUMMARY:Música en vivo en La Villa
DESCRIPTION:Sumérgete en una experiencia única donde la buena comida y la música en vivo se fusionan para crear una velada inolvidable. Nuestro restaurante\, todos los jueves\, se transforma en un escenario vibrante donde talentosos músicos locales llenan el aire con melodías cautivadoras mientras disfrutas de una exquisita cena.Como siempre\, ofrecemos una amplia variedad de platos preparados con ingredientes frescos y de alta calidad. Desde nuestras suculentas carnes y pescados a la brasa hasta los postres más esquisitos\, cada bocado está diseñado para deleitar tu paladar. Y para acompañar tu comida\, nuestra carta de vinos cuidadosamente seleccionados complementa perfectamente cada sabor.Ven y descubre por qué La Villa restaurante es el lugar ideal para disfrutar de una cena que despierta todos tus sentidos.Reserva tu mesa (964297365) y prepárate para una noche llena de sabores deliciosos y canciones que enamoran! *disponible todos los jueves
URL:https://culturalocal.eu/agenda/musica-en-vivo-en-la-villa/2024-08-29/
LOCATION:Restaurante La Villa\, Passeig Marítim 37\, Alcossebre\, Castelló\, 12579\, España
CATEGORIES:Empresa local
ATTACH;FMTTYPE=image/jpeg:https://culturalocal.eu/wp-content/uploads/2024/07/LaVilla.jpg
ORGANIZER;CN="Restaurante La Villa":MAILTO:lavillaalcossebre@gmail.com
END:VEVENT
BEGIN:VEVENT
DTSTART;TZID=Europe/Madrid:20240822T210000
DTEND;TZID=Europe/Madrid:20240822T233000
DTSTAMP:20260420T085028
CREATED:20241001T121104Z
LAST-MODIFIED:20241001T121104Z
UID:10001028-1724360400-1724369400@culturalocal.eu
SUMMARY:Música en vivo en La Villa
DESCRIPTION:Sumérgete en una experiencia única donde la buena comida y la música en vivo se fusionan para crear una velada inolvidable. Nuestro restaurante\, todos los jueves\, se transforma en un escenario vibrante donde talentosos músicos locales llenan el aire con melodías cautivadoras mientras disfrutas de una exquisita cena.Como siempre\, ofrecemos una amplia variedad de platos preparados con ingredientes frescos y de alta calidad. Desde nuestras suculentas carnes y pescados a la brasa hasta los postres más esquisitos\, cada bocado está diseñado para deleitar tu paladar. Y para acompañar tu comida\, nuestra carta de vinos cuidadosamente seleccionados complementa perfectamente cada sabor.Ven y descubre por qué La Villa restaurante es el lugar ideal para disfrutar de una cena que despierta todos tus sentidos.Reserva tu mesa (964297365) y prepárate para una noche llena de sabores deliciosos y canciones que enamoran! *disponible todos los jueves
URL:https://culturalocal.eu/agenda/musica-en-vivo-en-la-villa/2024-08-22/
LOCATION:Restaurante La Villa\, Passeig Marítim 37\, Alcossebre\, Castelló\, 12579\, España
CATEGORIES:Empresa local
ATTACH;FMTTYPE=image/jpeg:https://culturalocal.eu/wp-content/uploads/2024/07/LaVilla.jpg
ORGANIZER;CN="Restaurante La Villa":MAILTO:lavillaalcossebre@gmail.com
END:VEVENT
BEGIN:VEVENT
DTSTART;TZID=Europe/Madrid:20240815T210000
DTEND;TZID=Europe/Madrid:20240815T233000
DTSTAMP:20260420T085028
CREATED:20241001T121104Z
LAST-MODIFIED:20241001T121104Z
UID:10001027-1723755600-1723764600@culturalocal.eu
SUMMARY:Música en vivo en La Villa
DESCRIPTION:Sumérgete en una experiencia única donde la buena comida y la música en vivo se fusionan para crear una velada inolvidable. Nuestro restaurante\, todos los jueves\, se transforma en un escenario vibrante donde talentosos músicos locales llenan el aire con melodías cautivadoras mientras disfrutas de una exquisita cena.Como siempre\, ofrecemos una amplia variedad de platos preparados con ingredientes frescos y de alta calidad. Desde nuestras suculentas carnes y pescados a la brasa hasta los postres más esquisitos\, cada bocado está diseñado para deleitar tu paladar. Y para acompañar tu comida\, nuestra carta de vinos cuidadosamente seleccionados complementa perfectamente cada sabor.Ven y descubre por qué La Villa restaurante es el lugar ideal para disfrutar de una cena que despierta todos tus sentidos.Reserva tu mesa (964297365) y prepárate para una noche llena de sabores deliciosos y canciones que enamoran! *disponible todos los jueves
URL:https://culturalocal.eu/agenda/musica-en-vivo-en-la-villa/2024-08-15/
LOCATION:Restaurante La Villa\, Passeig Marítim 37\, Alcossebre\, Castelló\, 12579\, España
CATEGORIES:Empresa local
ATTACH;FMTTYPE=image/jpeg:https://culturalocal.eu/wp-content/uploads/2024/07/LaVilla.jpg
ORGANIZER;CN="Restaurante La Villa":MAILTO:lavillaalcossebre@gmail.com
END:VEVENT
BEGIN:VEVENT
DTSTART;TZID=Europe/Madrid:20240808T210000
DTEND;TZID=Europe/Madrid:20240808T233000
DTSTAMP:20260420T085028
CREATED:20241001T121104Z
LAST-MODIFIED:20241001T121104Z
UID:10001026-1723150800-1723159800@culturalocal.eu
SUMMARY:Música en vivo en La Villa
DESCRIPTION:Sumérgete en una experiencia única donde la buena comida y la música en vivo se fusionan para crear una velada inolvidable. Nuestro restaurante\, todos los jueves\, se transforma en un escenario vibrante donde talentosos músicos locales llenan el aire con melodías cautivadoras mientras disfrutas de una exquisita cena.Como siempre\, ofrecemos una amplia variedad de platos preparados con ingredientes frescos y de alta calidad. Desde nuestras suculentas carnes y pescados a la brasa hasta los postres más esquisitos\, cada bocado está diseñado para deleitar tu paladar. Y para acompañar tu comida\, nuestra carta de vinos cuidadosamente seleccionados complementa perfectamente cada sabor.Ven y descubre por qué La Villa restaurante es el lugar ideal para disfrutar de una cena que despierta todos tus sentidos.Reserva tu mesa (964297365) y prepárate para una noche llena de sabores deliciosos y canciones que enamoran! *disponible todos los jueves
URL:https://culturalocal.eu/agenda/musica-en-vivo-en-la-villa/2024-08-08/
LOCATION:Restaurante La Villa\, Passeig Marítim 37\, Alcossebre\, Castelló\, 12579\, España
CATEGORIES:Empresa local
ATTACH;FMTTYPE=image/jpeg:https://culturalocal.eu/wp-content/uploads/2024/07/LaVilla.jpg
ORGANIZER;CN="Restaurante La Villa":MAILTO:lavillaalcossebre@gmail.com
END:VEVENT
BEGIN:VEVENT
DTSTART;TZID=Europe/Madrid:20240801T210000
DTEND;TZID=Europe/Madrid:20240801T233000
DTSTAMP:20260420T085028
CREATED:20241001T121104Z
LAST-MODIFIED:20241001T121104Z
UID:10001025-1722546000-1722555000@culturalocal.eu
SUMMARY:Música en vivo en La Villa
DESCRIPTION:Sumérgete en una experiencia única donde la buena comida y la música en vivo se fusionan para crear una velada inolvidable. Nuestro restaurante\, todos los jueves\, se transforma en un escenario vibrante donde talentosos músicos locales llenan el aire con melodías cautivadoras mientras disfrutas de una exquisita cena.Como siempre\, ofrecemos una amplia variedad de platos preparados con ingredientes frescos y de alta calidad. Desde nuestras suculentas carnes y pescados a la brasa hasta los postres más esquisitos\, cada bocado está diseñado para deleitar tu paladar. Y para acompañar tu comida\, nuestra carta de vinos cuidadosamente seleccionados complementa perfectamente cada sabor.Ven y descubre por qué La Villa restaurante es el lugar ideal para disfrutar de una cena que despierta todos tus sentidos.Reserva tu mesa (964297365) y prepárate para una noche llena de sabores deliciosos y canciones que enamoran! *disponible todos los jueves
URL:https://culturalocal.eu/agenda/musica-en-vivo-en-la-villa/2024-08-01/
LOCATION:Restaurante La Villa\, Passeig Marítim 37\, Alcossebre\, Castelló\, 12579\, España
CATEGORIES:Empresa local
ATTACH;FMTTYPE=image/jpeg:https://culturalocal.eu/wp-content/uploads/2024/07/LaVilla.jpg
ORGANIZER;CN="Restaurante La Villa":MAILTO:lavillaalcossebre@gmail.com
END:VEVENT
BEGIN:VEVENT
DTSTART;TZID=Europe/Madrid:20240725T210000
DTEND;TZID=Europe/Madrid:20240725T233000
DTSTAMP:20260420T085028
CREATED:20241001T121104Z
LAST-MODIFIED:20241001T121104Z
UID:10001024-1721941200-1721950200@culturalocal.eu
SUMMARY:Música en vivo en La Villa
DESCRIPTION:Sumérgete en una experiencia única donde la buena comida y la música en vivo se fusionan para crear una velada inolvidable. Nuestro restaurante\, todos los jueves\, se transforma en un escenario vibrante donde talentosos músicos locales llenan el aire con melodías cautivadoras mientras disfrutas de una exquisita cena.Como siempre\, ofrecemos una amplia variedad de platos preparados con ingredientes frescos y de alta calidad. Desde nuestras suculentas carnes y pescados a la brasa hasta los postres más esquisitos\, cada bocado está diseñado para deleitar tu paladar. Y para acompañar tu comida\, nuestra carta de vinos cuidadosamente seleccionados complementa perfectamente cada sabor.Ven y descubre por qué La Villa restaurante es el lugar ideal para disfrutar de una cena que despierta todos tus sentidos.Reserva tu mesa (964297365) y prepárate para una noche llena de sabores deliciosos y canciones que enamoran! *disponible todos los jueves
URL:https://culturalocal.eu/agenda/musica-en-vivo-en-la-villa/2024-07-25/
LOCATION:Restaurante La Villa\, Passeig Marítim 37\, Alcossebre\, Castelló\, 12579\, España
CATEGORIES:Empresa local
ATTACH;FMTTYPE=image/jpeg:https://culturalocal.eu/wp-content/uploads/2024/07/LaVilla.jpg
ORGANIZER;CN="Restaurante La Villa":MAILTO:lavillaalcossebre@gmail.com
END:VEVENT
BEGIN:VEVENT
DTSTART;TZID=Europe/Madrid:20240718T210000
DTEND;TZID=Europe/Madrid:20240718T233000
DTSTAMP:20260420T085028
CREATED:20241001T121104Z
LAST-MODIFIED:20241001T121104Z
UID:10001023-1721336400-1721345400@culturalocal.eu
SUMMARY:Música en vivo en La Villa
DESCRIPTION:Sumérgete en una experiencia única donde la buena comida y la música en vivo se fusionan para crear una velada inolvidable. Nuestro restaurante\, todos los jueves\, se transforma en un escenario vibrante donde talentosos músicos locales llenan el aire con melodías cautivadoras mientras disfrutas de una exquisita cena.Como siempre\, ofrecemos una amplia variedad de platos preparados con ingredientes frescos y de alta calidad. Desde nuestras suculentas carnes y pescados a la brasa hasta los postres más esquisitos\, cada bocado está diseñado para deleitar tu paladar. Y para acompañar tu comida\, nuestra carta de vinos cuidadosamente seleccionados complementa perfectamente cada sabor.Ven y descubre por qué La Villa restaurante es el lugar ideal para disfrutar de una cena que despierta todos tus sentidos.Reserva tu mesa (964297365) y prepárate para una noche llena de sabores deliciosos y canciones que enamoran! *disponible todos los jueves
URL:https://culturalocal.eu/agenda/musica-en-vivo-en-la-villa/2024-07-18/
LOCATION:Restaurante La Villa\, Passeig Marítim 37\, Alcossebre\, Castelló\, 12579\, España
CATEGORIES:Empresa local
ATTACH;FMTTYPE=image/jpeg:https://culturalocal.eu/wp-content/uploads/2024/07/LaVilla.jpg
ORGANIZER;CN="Restaurante La Villa":MAILTO:lavillaalcossebre@gmail.com
END:VEVENT
BEGIN:VEVENT
DTSTART;TZID=Europe/Madrid:20240711T210000
DTEND;TZID=Europe/Madrid:20240711T233000
DTSTAMP:20260420T085028
CREATED:20241001T121104Z
LAST-MODIFIED:20241001T121104Z
UID:10001022-1720731600-1720740600@culturalocal.eu
SUMMARY:Música en vivo en La Villa
DESCRIPTION:Sumérgete en una experiencia única donde la buena comida y la música en vivo se fusionan para crear una velada inolvidable. Nuestro restaurante\, todos los jueves\, se transforma en un escenario vibrante donde talentosos músicos locales llenan el aire con melodías cautivadoras mientras disfrutas de una exquisita cena.Como siempre\, ofrecemos una amplia variedad de platos preparados con ingredientes frescos y de alta calidad. Desde nuestras suculentas carnes y pescados a la brasa hasta los postres más esquisitos\, cada bocado está diseñado para deleitar tu paladar. Y para acompañar tu comida\, nuestra carta de vinos cuidadosamente seleccionados complementa perfectamente cada sabor.Ven y descubre por qué La Villa restaurante es el lugar ideal para disfrutar de una cena que despierta todos tus sentidos.Reserva tu mesa (964297365) y prepárate para una noche llena de sabores deliciosos y canciones que enamoran! *disponible todos los jueves
URL:https://culturalocal.eu/agenda/musica-en-vivo-en-la-villa/2024-07-11/
LOCATION:Restaurante La Villa\, Passeig Marítim 37\, Alcossebre\, Castelló\, 12579\, España
CATEGORIES:Empresa local
ATTACH;FMTTYPE=image/jpeg:https://culturalocal.eu/wp-content/uploads/2024/07/LaVilla.jpg
ORGANIZER;CN="Restaurante La Villa":MAILTO:lavillaalcossebre@gmail.com
END:VEVENT
BEGIN:VEVENT
DTSTART;TZID=Europe/Madrid:20240704T210000
DTEND;TZID=Europe/Madrid:20240704T233000
DTSTAMP:20260420T085028
CREATED:20241001T121104Z
LAST-MODIFIED:20241001T121104Z
UID:10001021-1720126800-1720135800@culturalocal.eu
SUMMARY:Música en vivo en La Villa
DESCRIPTION:Sumérgete en una experiencia única donde la buena comida y la música en vivo se fusionan para crear una velada inolvidable. Nuestro restaurante\, todos los jueves\, se transforma en un escenario vibrante donde talentosos músicos locales llenan el aire con melodías cautivadoras mientras disfrutas de una exquisita cena.Como siempre\, ofrecemos una amplia variedad de platos preparados con ingredientes frescos y de alta calidad. Desde nuestras suculentas carnes y pescados a la brasa hasta los postres más esquisitos\, cada bocado está diseñado para deleitar tu paladar. Y para acompañar tu comida\, nuestra carta de vinos cuidadosamente seleccionados complementa perfectamente cada sabor.Ven y descubre por qué La Villa restaurante es el lugar ideal para disfrutar de una cena que despierta todos tus sentidos.Reserva tu mesa (964297365) y prepárate para una noche llena de sabores deliciosos y canciones que enamoran! *disponible todos los jueves
URL:https://culturalocal.eu/agenda/musica-en-vivo-en-la-villa/2024-07-04/
LOCATION:Restaurante La Villa\, Passeig Marítim 37\, Alcossebre\, Castelló\, 12579\, España
CATEGORIES:Empresa local
ATTACH;FMTTYPE=image/jpeg:https://culturalocal.eu/wp-content/uploads/2024/07/LaVilla.jpg
ORGANIZER;CN="Restaurante La Villa":MAILTO:lavillaalcossebre@gmail.com
END:VEVENT
END:VCALENDAR