BEGIN:VCALENDAR
VERSION:2.0
PRODID:-//Agenda Cultura Local - ECPv6.15.20//NONSGML v1.0//EN
CALSCALE:GREGORIAN
METHOD:PUBLISH
X-ORIGINAL-URL:https://culturalocal.eu
X-WR-CALDESC:Eventos para Agenda Cultura Local
REFRESH-INTERVAL;VALUE=DURATION:PT1H
X-Robots-Tag:noindex
X-PUBLISHED-TTL:PT1H
BEGIN:VTIMEZONE
TZID:Europe/Madrid
BEGIN:DAYLIGHT
TZOFFSETFROM:+0100
TZOFFSETTO:+0200
TZNAME:CEST
DTSTART:20250330T010000
END:DAYLIGHT
BEGIN:STANDARD
TZOFFSETFROM:+0200
TZOFFSETTO:+0100
TZNAME:CET
DTSTART:20251026T010000
END:STANDARD
BEGIN:DAYLIGHT
TZOFFSETFROM:+0100
TZOFFSETTO:+0200
TZNAME:CEST
DTSTART:20260329T010000
END:DAYLIGHT
BEGIN:STANDARD
TZOFFSETFROM:+0200
TZOFFSETTO:+0100
TZNAME:CET
DTSTART:20261025T010000
END:STANDARD
BEGIN:DAYLIGHT
TZOFFSETFROM:+0100
TZOFFSETTO:+0200
TZNAME:CEST
DTSTART:20270328T010000
END:DAYLIGHT
BEGIN:STANDARD
TZOFFSETFROM:+0200
TZOFFSETTO:+0100
TZNAME:CET
DTSTART:20271031T010000
END:STANDARD
BEGIN:DAYLIGHT
TZOFFSETFROM:+0100
TZOFFSETTO:+0200
TZNAME:CEST
DTSTART:20280326T010000
END:DAYLIGHT
BEGIN:STANDARD
TZOFFSETFROM:+0200
TZOFFSETTO:+0100
TZNAME:CET
DTSTART:20281029T010000
END:STANDARD
END:VTIMEZONE
BEGIN:VEVENT
DTSTART;TZID=Europe/Madrid:20260425T100000
DTEND;TZID=Europe/Madrid:20260425T140000
DTSTAMP:20260419T194251
CREATED:20260419T072049Z
LAST-MODIFIED:20260419T072049Z
UID:10003901-1777111200-1777125600@culturalocal.eu
SUMMARY:Primavera de portes obertes\, la Biofranquesa
DESCRIPTION:La finca Slow «La Biofranquesa»\, obri les seues portes a la comunitat per a donar a conéixer el seu treball. Una finca Slow és aquella que treballa des de l’agroecologia\, disciplina científica que porta a terme pràctiques agrícoles sostenibles i un moviment social que busca produir aliments respectant el medi ambient. Integra coneixements tradicionals i científics per a optimitzar la biodiversitat\, millorar la salut del sòl i fomentar la justícia social\, oposant-se al monocultiu industrial. Han organitzat 4 jornades\, 2 de les quals encara no tenen data concretada\, per tant\, convé anar comprovant l’agenda. \n 
URL:https://culturalocal.eu/agenda/primavera-de-portes-obertes-la-biofranquesa/2026-04-25/
LOCATION:La Biofranquesa\, Caudiel\, Castelló\, 12440
CATEGORIES:Finca Slow,PER ORGANITZADOR
ATTACH;FMTTYPE=image/jpeg:https://culturalocal.eu/wp-content/uploads/2026/04/biofranquesa.jpeg
ORGANIZER;CN="La Biofranquesa":MAILTO:labiofranquesa@gmail.com
END:VEVENT
BEGIN:VEVENT
DTSTART;TZID=Europe/Madrid:20260523T100000
DTEND;TZID=Europe/Madrid:20260523T140000
DTSTAMP:20260419T194251
CREATED:20260419T072049Z
LAST-MODIFIED:20260419T072049Z
UID:10003902-1779530400-1779544800@culturalocal.eu
SUMMARY:Primavera de portes obertes\, la Biofranquesa
DESCRIPTION:La finca Slow «La Biofranquesa»\, obri les seues portes a la comunitat per a donar a conéixer el seu treball. Una finca Slow és aquella que treballa des de l’agroecologia\, disciplina científica que porta a terme pràctiques agrícoles sostenibles i un moviment social que busca produir aliments respectant el medi ambient. Integra coneixements tradicionals i científics per a optimitzar la biodiversitat\, millorar la salut del sòl i fomentar la justícia social\, oposant-se al monocultiu industrial. Han organitzat 4 jornades\, 2 de les quals encara no tenen data concretada\, per tant\, convé anar comprovant l’agenda. \n 
URL:https://culturalocal.eu/agenda/primavera-de-portes-obertes-la-biofranquesa/2026-05-23/
LOCATION:La Biofranquesa\, Caudiel\, Castelló\, 12440
CATEGORIES:Finca Slow,PER ORGANITZADOR
ATTACH;FMTTYPE=image/jpeg:https://culturalocal.eu/wp-content/uploads/2026/04/biofranquesa.jpeg
ORGANIZER;CN="La Biofranquesa":MAILTO:labiofranquesa@gmail.com
END:VEVENT
BEGIN:VEVENT
DTSTART;TZID=Europe/Madrid:20260627T100000
DTEND;TZID=Europe/Madrid:20260627T140000
DTSTAMP:20260419T194251
CREATED:20260419T072049Z
LAST-MODIFIED:20260419T072049Z
UID:10003903-1782554400-1782568800@culturalocal.eu
SUMMARY:Primavera de portes obertes\, la Biofranquesa
DESCRIPTION:La finca Slow «La Biofranquesa»\, obri les seues portes a la comunitat per a donar a conéixer el seu treball. Una finca Slow és aquella que treballa des de l’agroecologia\, disciplina científica que porta a terme pràctiques agrícoles sostenibles i un moviment social que busca produir aliments respectant el medi ambient. Integra coneixements tradicionals i científics per a optimitzar la biodiversitat\, millorar la salut del sòl i fomentar la justícia social\, oposant-se al monocultiu industrial. Han organitzat 4 jornades\, 2 de les quals encara no tenen data concretada\, per tant\, convé anar comprovant l’agenda. \n 
URL:https://culturalocal.eu/agenda/primavera-de-portes-obertes-la-biofranquesa/2026-06-27/
LOCATION:La Biofranquesa\, Caudiel\, Castelló\, 12440
CATEGORIES:Finca Slow,PER ORGANITZADOR
ATTACH;FMTTYPE=image/jpeg:https://culturalocal.eu/wp-content/uploads/2026/04/biofranquesa.jpeg
ORGANIZER;CN="La Biofranquesa":MAILTO:labiofranquesa@gmail.com
END:VEVENT
BEGIN:VEVENT
DTSTART;TZID=Europe/Madrid:20260725T100000
DTEND;TZID=Europe/Madrid:20260725T140000
DTSTAMP:20260419T194251
CREATED:20260419T072049Z
LAST-MODIFIED:20260419T072049Z
UID:10003904-1784973600-1784988000@culturalocal.eu
SUMMARY:Primavera de portes obertes\, la Biofranquesa
DESCRIPTION:La finca Slow «La Biofranquesa»\, obri les seues portes a la comunitat per a donar a conéixer el seu treball. Una finca Slow és aquella que treballa des de l’agroecologia\, disciplina científica que porta a terme pràctiques agrícoles sostenibles i un moviment social que busca produir aliments respectant el medi ambient. Integra coneixements tradicionals i científics per a optimitzar la biodiversitat\, millorar la salut del sòl i fomentar la justícia social\, oposant-se al monocultiu industrial. Han organitzat 4 jornades\, 2 de les quals encara no tenen data concretada\, per tant\, convé anar comprovant l’agenda. \n 
URL:https://culturalocal.eu/agenda/primavera-de-portes-obertes-la-biofranquesa/2026-07-25/
LOCATION:La Biofranquesa\, Caudiel\, Castelló\, 12440
CATEGORIES:Finca Slow,PER ORGANITZADOR
ATTACH;FMTTYPE=image/jpeg:https://culturalocal.eu/wp-content/uploads/2026/04/biofranquesa.jpeg
ORGANIZER;CN="La Biofranquesa":MAILTO:labiofranquesa@gmail.com
END:VEVENT
BEGIN:VEVENT
DTSTART;TZID=Europe/Madrid:20260822T100000
DTEND;TZID=Europe/Madrid:20260822T140000
DTSTAMP:20260419T194251
CREATED:20260419T072049Z
LAST-MODIFIED:20260419T072049Z
UID:10003905-1787392800-1787407200@culturalocal.eu
SUMMARY:Primavera de portes obertes\, la Biofranquesa
DESCRIPTION:La finca Slow «La Biofranquesa»\, obri les seues portes a la comunitat per a donar a conéixer el seu treball. Una finca Slow és aquella que treballa des de l’agroecologia\, disciplina científica que porta a terme pràctiques agrícoles sostenibles i un moviment social que busca produir aliments respectant el medi ambient. Integra coneixements tradicionals i científics per a optimitzar la biodiversitat\, millorar la salut del sòl i fomentar la justícia social\, oposant-se al monocultiu industrial. Han organitzat 4 jornades\, 2 de les quals encara no tenen data concretada\, per tant\, convé anar comprovant l’agenda. \n 
URL:https://culturalocal.eu/agenda/primavera-de-portes-obertes-la-biofranquesa/2026-08-22/
LOCATION:La Biofranquesa\, Caudiel\, Castelló\, 12440
CATEGORIES:Finca Slow,PER ORGANITZADOR
ATTACH;FMTTYPE=image/jpeg:https://culturalocal.eu/wp-content/uploads/2026/04/biofranquesa.jpeg
ORGANIZER;CN="La Biofranquesa":MAILTO:labiofranquesa@gmail.com
END:VEVENT
BEGIN:VEVENT
DTSTART;TZID=Europe/Madrid:20260926T100000
DTEND;TZID=Europe/Madrid:20260926T140000
DTSTAMP:20260419T194251
CREATED:20260419T072049Z
LAST-MODIFIED:20260419T072049Z
UID:10003906-1790416800-1790431200@culturalocal.eu
SUMMARY:Primavera de portes obertes\, la Biofranquesa
DESCRIPTION:La finca Slow «La Biofranquesa»\, obri les seues portes a la comunitat per a donar a conéixer el seu treball. Una finca Slow és aquella que treballa des de l’agroecologia\, disciplina científica que porta a terme pràctiques agrícoles sostenibles i un moviment social que busca produir aliments respectant el medi ambient. Integra coneixements tradicionals i científics per a optimitzar la biodiversitat\, millorar la salut del sòl i fomentar la justícia social\, oposant-se al monocultiu industrial. Han organitzat 4 jornades\, 2 de les quals encara no tenen data concretada\, per tant\, convé anar comprovant l’agenda. \n 
URL:https://culturalocal.eu/agenda/primavera-de-portes-obertes-la-biofranquesa/2026-09-26/
LOCATION:La Biofranquesa\, Caudiel\, Castelló\, 12440
CATEGORIES:Finca Slow,PER ORGANITZADOR
ATTACH;FMTTYPE=image/jpeg:https://culturalocal.eu/wp-content/uploads/2026/04/biofranquesa.jpeg
ORGANIZER;CN="La Biofranquesa":MAILTO:labiofranquesa@gmail.com
END:VEVENT
BEGIN:VEVENT
DTSTART;TZID=Europe/Madrid:20261024T100000
DTEND;TZID=Europe/Madrid:20261024T140000
DTSTAMP:20260419T194251
CREATED:20260419T072049Z
LAST-MODIFIED:20260419T072049Z
UID:10003907-1792836000-1792850400@culturalocal.eu
SUMMARY:Primavera de portes obertes\, la Biofranquesa
DESCRIPTION:La finca Slow «La Biofranquesa»\, obri les seues portes a la comunitat per a donar a conéixer el seu treball. Una finca Slow és aquella que treballa des de l’agroecologia\, disciplina científica que porta a terme pràctiques agrícoles sostenibles i un moviment social que busca produir aliments respectant el medi ambient. Integra coneixements tradicionals i científics per a optimitzar la biodiversitat\, millorar la salut del sòl i fomentar la justícia social\, oposant-se al monocultiu industrial. Han organitzat 4 jornades\, 2 de les quals encara no tenen data concretada\, per tant\, convé anar comprovant l’agenda. \n 
URL:https://culturalocal.eu/agenda/primavera-de-portes-obertes-la-biofranquesa/2026-10-24/
LOCATION:La Biofranquesa\, Caudiel\, Castelló\, 12440
CATEGORIES:Finca Slow,PER ORGANITZADOR
ATTACH;FMTTYPE=image/jpeg:https://culturalocal.eu/wp-content/uploads/2026/04/biofranquesa.jpeg
ORGANIZER;CN="La Biofranquesa":MAILTO:labiofranquesa@gmail.com
END:VEVENT
BEGIN:VEVENT
DTSTART;TZID=Europe/Madrid:20261128T100000
DTEND;TZID=Europe/Madrid:20261128T140000
DTSTAMP:20260419T194251
CREATED:20260419T072049Z
LAST-MODIFIED:20260419T072049Z
UID:10003908-1795860000-1795874400@culturalocal.eu
SUMMARY:Primavera de portes obertes\, la Biofranquesa
DESCRIPTION:La finca Slow «La Biofranquesa»\, obri les seues portes a la comunitat per a donar a conéixer el seu treball. Una finca Slow és aquella que treballa des de l’agroecologia\, disciplina científica que porta a terme pràctiques agrícoles sostenibles i un moviment social que busca produir aliments respectant el medi ambient. Integra coneixements tradicionals i científics per a optimitzar la biodiversitat\, millorar la salut del sòl i fomentar la justícia social\, oposant-se al monocultiu industrial. Han organitzat 4 jornades\, 2 de les quals encara no tenen data concretada\, per tant\, convé anar comprovant l’agenda. \n 
URL:https://culturalocal.eu/agenda/primavera-de-portes-obertes-la-biofranquesa/2026-11-28/
LOCATION:La Biofranquesa\, Caudiel\, Castelló\, 12440
CATEGORIES:Finca Slow,PER ORGANITZADOR
ATTACH;FMTTYPE=image/jpeg:https://culturalocal.eu/wp-content/uploads/2026/04/biofranquesa.jpeg
ORGANIZER;CN="La Biofranquesa":MAILTO:labiofranquesa@gmail.com
END:VEVENT
BEGIN:VEVENT
DTSTART;TZID=Europe/Madrid:20261226T100000
DTEND;TZID=Europe/Madrid:20261226T140000
DTSTAMP:20260419T194251
CREATED:20260419T072049Z
LAST-MODIFIED:20260419T072049Z
UID:10003909-1798279200-1798293600@culturalocal.eu
SUMMARY:Primavera de portes obertes\, la Biofranquesa
DESCRIPTION:La finca Slow «La Biofranquesa»\, obri les seues portes a la comunitat per a donar a conéixer el seu treball. Una finca Slow és aquella que treballa des de l’agroecologia\, disciplina científica que porta a terme pràctiques agrícoles sostenibles i un moviment social que busca produir aliments respectant el medi ambient. Integra coneixements tradicionals i científics per a optimitzar la biodiversitat\, millorar la salut del sòl i fomentar la justícia social\, oposant-se al monocultiu industrial. Han organitzat 4 jornades\, 2 de les quals encara no tenen data concretada\, per tant\, convé anar comprovant l’agenda. \n 
URL:https://culturalocal.eu/agenda/primavera-de-portes-obertes-la-biofranquesa/2026-12-26/
LOCATION:La Biofranquesa\, Caudiel\, Castelló\, 12440
CATEGORIES:Finca Slow,PER ORGANITZADOR
ATTACH;FMTTYPE=image/jpeg:https://culturalocal.eu/wp-content/uploads/2026/04/biofranquesa.jpeg
ORGANIZER;CN="La Biofranquesa":MAILTO:labiofranquesa@gmail.com
END:VEVENT
BEGIN:VEVENT
DTSTART;TZID=Europe/Madrid:20270123T100000
DTEND;TZID=Europe/Madrid:20270123T140000
DTSTAMP:20260419T194251
CREATED:20260419T072049Z
LAST-MODIFIED:20260419T072049Z
UID:10003910-1800698400-1800712800@culturalocal.eu
SUMMARY:Primavera de portes obertes\, la Biofranquesa
DESCRIPTION:La finca Slow «La Biofranquesa»\, obri les seues portes a la comunitat per a donar a conéixer el seu treball. Una finca Slow és aquella que treballa des de l’agroecologia\, disciplina científica que porta a terme pràctiques agrícoles sostenibles i un moviment social que busca produir aliments respectant el medi ambient. Integra coneixements tradicionals i científics per a optimitzar la biodiversitat\, millorar la salut del sòl i fomentar la justícia social\, oposant-se al monocultiu industrial. Han organitzat 4 jornades\, 2 de les quals encara no tenen data concretada\, per tant\, convé anar comprovant l’agenda. \n 
URL:https://culturalocal.eu/agenda/primavera-de-portes-obertes-la-biofranquesa/2027-01-23/
LOCATION:La Biofranquesa\, Caudiel\, Castelló\, 12440
CATEGORIES:Finca Slow,PER ORGANITZADOR
ATTACH;FMTTYPE=image/jpeg:https://culturalocal.eu/wp-content/uploads/2026/04/biofranquesa.jpeg
ORGANIZER;CN="La Biofranquesa":MAILTO:labiofranquesa@gmail.com
END:VEVENT
BEGIN:VEVENT
DTSTART;TZID=Europe/Madrid:20270227T100000
DTEND;TZID=Europe/Madrid:20270227T140000
DTSTAMP:20260419T194251
CREATED:20260419T072049Z
LAST-MODIFIED:20260419T072049Z
UID:10003911-1803722400-1803736800@culturalocal.eu
SUMMARY:Primavera de portes obertes\, la Biofranquesa
DESCRIPTION:La finca Slow «La Biofranquesa»\, obri les seues portes a la comunitat per a donar a conéixer el seu treball. Una finca Slow és aquella que treballa des de l’agroecologia\, disciplina científica que porta a terme pràctiques agrícoles sostenibles i un moviment social que busca produir aliments respectant el medi ambient. Integra coneixements tradicionals i científics per a optimitzar la biodiversitat\, millorar la salut del sòl i fomentar la justícia social\, oposant-se al monocultiu industrial. Han organitzat 4 jornades\, 2 de les quals encara no tenen data concretada\, per tant\, convé anar comprovant l’agenda. \n 
URL:https://culturalocal.eu/agenda/primavera-de-portes-obertes-la-biofranquesa/2027-02-27/
LOCATION:La Biofranquesa\, Caudiel\, Castelló\, 12440
CATEGORIES:Finca Slow,PER ORGANITZADOR
ATTACH;FMTTYPE=image/jpeg:https://culturalocal.eu/wp-content/uploads/2026/04/biofranquesa.jpeg
ORGANIZER;CN="La Biofranquesa":MAILTO:labiofranquesa@gmail.com
END:VEVENT
BEGIN:VEVENT
DTSTART;TZID=Europe/Madrid:20270327T100000
DTEND;TZID=Europe/Madrid:20270327T140000
DTSTAMP:20260419T194251
CREATED:20260419T072049Z
LAST-MODIFIED:20260419T072049Z
UID:10003912-1806141600-1806156000@culturalocal.eu
SUMMARY:Primavera de portes obertes\, la Biofranquesa
DESCRIPTION:La finca Slow «La Biofranquesa»\, obri les seues portes a la comunitat per a donar a conéixer el seu treball. Una finca Slow és aquella que treballa des de l’agroecologia\, disciplina científica que porta a terme pràctiques agrícoles sostenibles i un moviment social que busca produir aliments respectant el medi ambient. Integra coneixements tradicionals i científics per a optimitzar la biodiversitat\, millorar la salut del sòl i fomentar la justícia social\, oposant-se al monocultiu industrial. Han organitzat 4 jornades\, 2 de les quals encara no tenen data concretada\, per tant\, convé anar comprovant l’agenda. \n 
URL:https://culturalocal.eu/agenda/primavera-de-portes-obertes-la-biofranquesa/2027-03-27/
LOCATION:La Biofranquesa\, Caudiel\, Castelló\, 12440
CATEGORIES:Finca Slow,PER ORGANITZADOR
ATTACH;FMTTYPE=image/jpeg:https://culturalocal.eu/wp-content/uploads/2026/04/biofranquesa.jpeg
ORGANIZER;CN="La Biofranquesa":MAILTO:labiofranquesa@gmail.com
END:VEVENT
BEGIN:VEVENT
DTSTART;TZID=Europe/Madrid:20270424T100000
DTEND;TZID=Europe/Madrid:20270424T140000
DTSTAMP:20260419T194251
CREATED:20260419T072049Z
LAST-MODIFIED:20260419T072049Z
UID:10003913-1808560800-1808575200@culturalocal.eu
SUMMARY:Primavera de portes obertes\, la Biofranquesa
DESCRIPTION:La finca Slow «La Biofranquesa»\, obri les seues portes a la comunitat per a donar a conéixer el seu treball. Una finca Slow és aquella que treballa des de l’agroecologia\, disciplina científica que porta a terme pràctiques agrícoles sostenibles i un moviment social que busca produir aliments respectant el medi ambient. Integra coneixements tradicionals i científics per a optimitzar la biodiversitat\, millorar la salut del sòl i fomentar la justícia social\, oposant-se al monocultiu industrial. Han organitzat 4 jornades\, 2 de les quals encara no tenen data concretada\, per tant\, convé anar comprovant l’agenda. \n 
URL:https://culturalocal.eu/agenda/primavera-de-portes-obertes-la-biofranquesa/2027-04-24/
LOCATION:La Biofranquesa\, Caudiel\, Castelló\, 12440
CATEGORIES:Finca Slow,PER ORGANITZADOR
ATTACH;FMTTYPE=image/jpeg:https://culturalocal.eu/wp-content/uploads/2026/04/biofranquesa.jpeg
ORGANIZER;CN="La Biofranquesa":MAILTO:labiofranquesa@gmail.com
END:VEVENT
BEGIN:VEVENT
DTSTART;TZID=Europe/Madrid:20270522T100000
DTEND;TZID=Europe/Madrid:20270522T140000
DTSTAMP:20260419T194251
CREATED:20260419T072049Z
LAST-MODIFIED:20260419T072049Z
UID:10003914-1810980000-1810994400@culturalocal.eu
SUMMARY:Primavera de portes obertes\, la Biofranquesa
DESCRIPTION:La finca Slow «La Biofranquesa»\, obri les seues portes a la comunitat per a donar a conéixer el seu treball. Una finca Slow és aquella que treballa des de l’agroecologia\, disciplina científica que porta a terme pràctiques agrícoles sostenibles i un moviment social que busca produir aliments respectant el medi ambient. Integra coneixements tradicionals i científics per a optimitzar la biodiversitat\, millorar la salut del sòl i fomentar la justícia social\, oposant-se al monocultiu industrial. Han organitzat 4 jornades\, 2 de les quals encara no tenen data concretada\, per tant\, convé anar comprovant l’agenda. \n 
URL:https://culturalocal.eu/agenda/primavera-de-portes-obertes-la-biofranquesa/2027-05-22/
LOCATION:La Biofranquesa\, Caudiel\, Castelló\, 12440
CATEGORIES:Finca Slow,PER ORGANITZADOR
ATTACH;FMTTYPE=image/jpeg:https://culturalocal.eu/wp-content/uploads/2026/04/biofranquesa.jpeg
ORGANIZER;CN="La Biofranquesa":MAILTO:labiofranquesa@gmail.com
END:VEVENT
BEGIN:VEVENT
DTSTART;TZID=Europe/Madrid:20270626T100000
DTEND;TZID=Europe/Madrid:20270626T140000
DTSTAMP:20260419T194251
CREATED:20260419T072049Z
LAST-MODIFIED:20260419T072049Z
UID:10003915-1814004000-1814018400@culturalocal.eu
SUMMARY:Primavera de portes obertes\, la Biofranquesa
DESCRIPTION:La finca Slow «La Biofranquesa»\, obri les seues portes a la comunitat per a donar a conéixer el seu treball. Una finca Slow és aquella que treballa des de l’agroecologia\, disciplina científica que porta a terme pràctiques agrícoles sostenibles i un moviment social que busca produir aliments respectant el medi ambient. Integra coneixements tradicionals i científics per a optimitzar la biodiversitat\, millorar la salut del sòl i fomentar la justícia social\, oposant-se al monocultiu industrial. Han organitzat 4 jornades\, 2 de les quals encara no tenen data concretada\, per tant\, convé anar comprovant l’agenda. \n 
URL:https://culturalocal.eu/agenda/primavera-de-portes-obertes-la-biofranquesa/2027-06-26/
LOCATION:La Biofranquesa\, Caudiel\, Castelló\, 12440
CATEGORIES:Finca Slow,PER ORGANITZADOR
ATTACH;FMTTYPE=image/jpeg:https://culturalocal.eu/wp-content/uploads/2026/04/biofranquesa.jpeg
ORGANIZER;CN="La Biofranquesa":MAILTO:labiofranquesa@gmail.com
END:VEVENT
END:VCALENDAR